BEGIN:VCALENDAR
VERSION:2.0
PRODID:-//Stiftung BSW - ECPv6.7.1//NONSGML v1.0//EN
CALSCALE:GREGORIAN
METHOD:PUBLISH
X-ORIGINAL-URL:https://bsw-goettingen.de
X-WR-CALDESC:Veranstaltungen für Stiftung BSW
REFRESH-INTERVAL;VALUE=DURATION:PT1H
X-Robots-Tag:noindex
X-PUBLISHED-TTL:PT1H
BEGIN:VTIMEZONE
TZID:UTC
BEGIN:STANDARD
TZOFFSETFROM:+0000
TZOFFSETTO:+0000
TZNAME:UTC
DTSTART:20210101T000000
END:STANDARD
END:VTIMEZONE
BEGIN:VEVENT
DTSTART;TZID=UTC:20211219T140000
DTEND;TZID=UTC:20211219T160000
DTSTAMP:20260424T150222
CREATED:20211207T210658Z
LAST-MODIFIED:20211207T210809Z
UID:10000034-1639922400-1639929600@bsw-goettingen.de
SUMMARY:Kinderweihnachtsfeier - fällt leider aus!
DESCRIPTION:Aufgrund der steigenden Inzidenzzahlen fällt die Veranstaltung leider aus!
URL:https://bsw-goettingen.de/veranstaltung/kinderweihnachtsfeier/
LOCATION:CinemaxX Göttingen\, Bahnhofsallee 3\, Göttingen\, Niedersachsen\, 37081\, Deutschland
CATEGORIES:Veranstaltungen
END:VEVENT
END:VCALENDAR