BEGIN:VCALENDAR
VERSION:2.0
PRODID:-//Stiftung BSW - ECPv6.7.1//NONSGML v1.0//EN
CALSCALE:GREGORIAN
METHOD:PUBLISH
X-ORIGINAL-URL:https://bsw-goettingen.de
X-WR-CALDESC:Veranstaltungen für Stiftung BSW
REFRESH-INTERVAL;VALUE=DURATION:PT1H
X-Robots-Tag:noindex
X-PUBLISHED-TTL:PT1H
BEGIN:VTIMEZONE
TZID:UTC
BEGIN:STANDARD
TZOFFSETFROM:+0000
TZOFFSETTO:+0000
TZNAME:UTC
DTSTART:20270101T000000
END:STANDARD
END:VTIMEZONE
BEGIN:VEVENT
DTSTART;TZID=UTC:20271206T090000
DTEND;TZID=UTC:20271206T110000
DTSTAMP:20260424T044604
CREATED:20240224T201334Z
LAST-MODIFIED:20240504T044437Z
UID:10000307-1828083600-1828090800@bsw-goettingen.de
SUMMARY:Sprechstunde
DESCRIPTION:Wir sind für Sie da!\nUnser Seniorenberater Hardi Rezepka freut sich auf Ihren Besuch.
URL:https://bsw-goettingen.de/veranstaltung/sprechstunde-bahnhof-goettingen/2027-12-06/
LOCATION:BSW-Freizeittreff im Bahnhof\, Bahnhofsplatz 1\, Göttingen\, 37073\, Deutschland
CATEGORIES:Sprechstunden
END:VEVENT
BEGIN:VEVENT
DTSTART;TZID=UTC:20271213T090000
DTEND;TZID=UTC:20271213T110000
DTSTAMP:20260424T044604
CREATED:20240224T201334Z
LAST-MODIFIED:20240504T044437Z
UID:10000308-1828688400-1828695600@bsw-goettingen.de
SUMMARY:Sprechstunde
DESCRIPTION:Wir sind für Sie da!\nUnser Seniorenberater Hardi Rezepka freut sich auf Ihren Besuch.
URL:https://bsw-goettingen.de/veranstaltung/sprechstunde-bahnhof-goettingen/2027-12-13/
LOCATION:BSW-Freizeittreff im Bahnhof\, Bahnhofsplatz 1\, Göttingen\, 37073\, Deutschland
CATEGORIES:Sprechstunden
END:VEVENT
BEGIN:VEVENT
DTSTART;TZID=UTC:20271220T090000
DTEND;TZID=UTC:20271220T110000
DTSTAMP:20260424T044604
CREATED:20240224T201334Z
LAST-MODIFIED:20240504T044437Z
UID:10000309-1829293200-1829300400@bsw-goettingen.de
SUMMARY:Sprechstunde
DESCRIPTION:Wir sind für Sie da!\nUnser Seniorenberater Hardi Rezepka freut sich auf Ihren Besuch.
URL:https://bsw-goettingen.de/veranstaltung/sprechstunde-bahnhof-goettingen/2027-12-20/
LOCATION:BSW-Freizeittreff im Bahnhof\, Bahnhofsplatz 1\, Göttingen\, 37073\, Deutschland
CATEGORIES:Sprechstunden
END:VEVENT
BEGIN:VEVENT
DTSTART;TZID=UTC:20271227T090000
DTEND;TZID=UTC:20271227T110000
DTSTAMP:20260424T044604
CREATED:20240224T201334Z
LAST-MODIFIED:20240504T044437Z
UID:10000310-1829898000-1829905200@bsw-goettingen.de
SUMMARY:Sprechstunde
DESCRIPTION:Wir sind für Sie da!\nUnser Seniorenberater Hardi Rezepka freut sich auf Ihren Besuch.
URL:https://bsw-goettingen.de/veranstaltung/sprechstunde-bahnhof-goettingen/2027-12-27/
LOCATION:BSW-Freizeittreff im Bahnhof\, Bahnhofsplatz 1\, Göttingen\, 37073\, Deutschland
CATEGORIES:Sprechstunden
END:VEVENT
BEGIN:VEVENT
DTSTART;TZID=UTC:20280103T090000
DTEND;TZID=UTC:20280103T110000
DTSTAMP:20260424T044604
CREATED:20240224T201334Z
LAST-MODIFIED:20240504T044437Z
UID:10000311-1830502800-1830510000@bsw-goettingen.de
SUMMARY:Sprechstunde
DESCRIPTION:Wir sind für Sie da!\nUnser Seniorenberater Hardi Rezepka freut sich auf Ihren Besuch.
URL:https://bsw-goettingen.de/veranstaltung/sprechstunde-bahnhof-goettingen/2028-01-03/
LOCATION:BSW-Freizeittreff im Bahnhof\, Bahnhofsplatz 1\, Göttingen\, 37073\, Deutschland
CATEGORIES:Sprechstunden
END:VEVENT
BEGIN:VEVENT
DTSTART;TZID=UTC:20280110T090000
DTEND;TZID=UTC:20280110T110000
DTSTAMP:20260424T044604
CREATED:20240224T201334Z
LAST-MODIFIED:20240504T044437Z
UID:10000312-1831107600-1831114800@bsw-goettingen.de
SUMMARY:Sprechstunde
DESCRIPTION:Wir sind für Sie da!\nUnser Seniorenberater Hardi Rezepka freut sich auf Ihren Besuch.
URL:https://bsw-goettingen.de/veranstaltung/sprechstunde-bahnhof-goettingen/2028-01-10/
LOCATION:BSW-Freizeittreff im Bahnhof\, Bahnhofsplatz 1\, Göttingen\, 37073\, Deutschland
CATEGORIES:Sprechstunden
END:VEVENT
BEGIN:VEVENT
DTSTART;TZID=UTC:20280117T090000
DTEND;TZID=UTC:20280117T110000
DTSTAMP:20260424T044604
CREATED:20240224T201334Z
LAST-MODIFIED:20240504T044437Z
UID:10000313-1831712400-1831719600@bsw-goettingen.de
SUMMARY:Sprechstunde
DESCRIPTION:Wir sind für Sie da!\nUnser Seniorenberater Hardi Rezepka freut sich auf Ihren Besuch.
URL:https://bsw-goettingen.de/veranstaltung/sprechstunde-bahnhof-goettingen/2028-01-17/
LOCATION:BSW-Freizeittreff im Bahnhof\, Bahnhofsplatz 1\, Göttingen\, 37073\, Deutschland
CATEGORIES:Sprechstunden
END:VEVENT
BEGIN:VEVENT
DTSTART;TZID=UTC:20280124T090000
DTEND;TZID=UTC:20280124T110000
DTSTAMP:20260424T044604
CREATED:20240224T201334Z
LAST-MODIFIED:20240504T044437Z
UID:10000314-1832317200-1832324400@bsw-goettingen.de
SUMMARY:Sprechstunde
DESCRIPTION:Wir sind für Sie da!\nUnser Seniorenberater Hardi Rezepka freut sich auf Ihren Besuch.
URL:https://bsw-goettingen.de/veranstaltung/sprechstunde-bahnhof-goettingen/2028-01-24/
LOCATION:BSW-Freizeittreff im Bahnhof\, Bahnhofsplatz 1\, Göttingen\, 37073\, Deutschland
CATEGORIES:Sprechstunden
END:VEVENT
BEGIN:VEVENT
DTSTART;TZID=UTC:20280131T090000
DTEND;TZID=UTC:20280131T110000
DTSTAMP:20260424T044604
CREATED:20240224T201334Z
LAST-MODIFIED:20240504T044437Z
UID:10000315-1832922000-1832929200@bsw-goettingen.de
SUMMARY:Sprechstunde
DESCRIPTION:Wir sind für Sie da!\nUnser Seniorenberater Hardi Rezepka freut sich auf Ihren Besuch.
URL:https://bsw-goettingen.de/veranstaltung/sprechstunde-bahnhof-goettingen/2028-01-31/
LOCATION:BSW-Freizeittreff im Bahnhof\, Bahnhofsplatz 1\, Göttingen\, 37073\, Deutschland
CATEGORIES:Sprechstunden
END:VEVENT
BEGIN:VEVENT
DTSTART;TZID=UTC:20280207T090000
DTEND;TZID=UTC:20280207T110000
DTSTAMP:20260424T044604
CREATED:20240224T201334Z
LAST-MODIFIED:20240504T044437Z
UID:10000316-1833526800-1833534000@bsw-goettingen.de
SUMMARY:Sprechstunde
DESCRIPTION:Wir sind für Sie da!\nUnser Seniorenberater Hardi Rezepka freut sich auf Ihren Besuch.
URL:https://bsw-goettingen.de/veranstaltung/sprechstunde-bahnhof-goettingen/2028-02-07/
LOCATION:BSW-Freizeittreff im Bahnhof\, Bahnhofsplatz 1\, Göttingen\, 37073\, Deutschland
CATEGORIES:Sprechstunden
END:VEVENT
BEGIN:VEVENT
DTSTART;TZID=UTC:20280214T090000
DTEND;TZID=UTC:20280214T110000
DTSTAMP:20260424T044604
CREATED:20240224T201334Z
LAST-MODIFIED:20240504T044437Z
UID:10000317-1834131600-1834138800@bsw-goettingen.de
SUMMARY:Sprechstunde
DESCRIPTION:Wir sind für Sie da!\nUnser Seniorenberater Hardi Rezepka freut sich auf Ihren Besuch.
URL:https://bsw-goettingen.de/veranstaltung/sprechstunde-bahnhof-goettingen/2028-02-14/
LOCATION:BSW-Freizeittreff im Bahnhof\, Bahnhofsplatz 1\, Göttingen\, 37073\, Deutschland
CATEGORIES:Sprechstunden
END:VEVENT
BEGIN:VEVENT
DTSTART;TZID=UTC:20280221T090000
DTEND;TZID=UTC:20280221T110000
DTSTAMP:20260424T044604
CREATED:20240224T201334Z
LAST-MODIFIED:20240504T044437Z
UID:10000318-1834736400-1834743600@bsw-goettingen.de
SUMMARY:Sprechstunde
DESCRIPTION:Wir sind für Sie da!\nUnser Seniorenberater Hardi Rezepka freut sich auf Ihren Besuch.
URL:https://bsw-goettingen.de/veranstaltung/sprechstunde-bahnhof-goettingen/2028-02-21/
LOCATION:BSW-Freizeittreff im Bahnhof\, Bahnhofsplatz 1\, Göttingen\, 37073\, Deutschland
CATEGORIES:Sprechstunden
END:VEVENT
BEGIN:VEVENT
DTSTART;TZID=UTC:20280228T090000
DTEND;TZID=UTC:20280228T110000
DTSTAMP:20260424T044604
CREATED:20240224T201334Z
LAST-MODIFIED:20240504T044437Z
UID:10000319-1835341200-1835348400@bsw-goettingen.de
SUMMARY:Sprechstunde
DESCRIPTION:Wir sind für Sie da!\nUnser Seniorenberater Hardi Rezepka freut sich auf Ihren Besuch.
URL:https://bsw-goettingen.de/veranstaltung/sprechstunde-bahnhof-goettingen/2028-02-28/
LOCATION:BSW-Freizeittreff im Bahnhof\, Bahnhofsplatz 1\, Göttingen\, 37073\, Deutschland
CATEGORIES:Sprechstunden
END:VEVENT
BEGIN:VEVENT
DTSTART;TZID=UTC:20280306T090000
DTEND;TZID=UTC:20280306T110000
DTSTAMP:20260424T044604
CREATED:20240224T201334Z
LAST-MODIFIED:20240504T044437Z
UID:10000320-1835946000-1835953200@bsw-goettingen.de
SUMMARY:Sprechstunde
DESCRIPTION:Wir sind für Sie da!\nUnser Seniorenberater Hardi Rezepka freut sich auf Ihren Besuch.
URL:https://bsw-goettingen.de/veranstaltung/sprechstunde-bahnhof-goettingen/2028-03-06/
LOCATION:BSW-Freizeittreff im Bahnhof\, Bahnhofsplatz 1\, Göttingen\, 37073\, Deutschland
CATEGORIES:Sprechstunden
END:VEVENT
BEGIN:VEVENT
DTSTART;TZID=UTC:20280313T090000
DTEND;TZID=UTC:20280313T110000
DTSTAMP:20260424T044604
CREATED:20240224T201334Z
LAST-MODIFIED:20240504T044437Z
UID:10000321-1836550800-1836558000@bsw-goettingen.de
SUMMARY:Sprechstunde
DESCRIPTION:Wir sind für Sie da!\nUnser Seniorenberater Hardi Rezepka freut sich auf Ihren Besuch.
URL:https://bsw-goettingen.de/veranstaltung/sprechstunde-bahnhof-goettingen/2028-03-13/
LOCATION:BSW-Freizeittreff im Bahnhof\, Bahnhofsplatz 1\, Göttingen\, 37073\, Deutschland
CATEGORIES:Sprechstunden
END:VEVENT
BEGIN:VEVENT
DTSTART;TZID=UTC:20280320T090000
DTEND;TZID=UTC:20280320T110000
DTSTAMP:20260424T044604
CREATED:20240224T201334Z
LAST-MODIFIED:20240504T044437Z
UID:10000322-1837155600-1837162800@bsw-goettingen.de
SUMMARY:Sprechstunde
DESCRIPTION:Wir sind für Sie da!\nUnser Seniorenberater Hardi Rezepka freut sich auf Ihren Besuch.
URL:https://bsw-goettingen.de/veranstaltung/sprechstunde-bahnhof-goettingen/2028-03-20/
LOCATION:BSW-Freizeittreff im Bahnhof\, Bahnhofsplatz 1\, Göttingen\, 37073\, Deutschland
CATEGORIES:Sprechstunden
END:VEVENT
BEGIN:VEVENT
DTSTART;TZID=UTC:20280327T090000
DTEND;TZID=UTC:20280327T110000
DTSTAMP:20260424T044604
CREATED:20240224T201334Z
LAST-MODIFIED:20240504T044437Z
UID:10000323-1837760400-1837767600@bsw-goettingen.de
SUMMARY:Sprechstunde
DESCRIPTION:Wir sind für Sie da!\nUnser Seniorenberater Hardi Rezepka freut sich auf Ihren Besuch.
URL:https://bsw-goettingen.de/veranstaltung/sprechstunde-bahnhof-goettingen/2028-03-27/
LOCATION:BSW-Freizeittreff im Bahnhof\, Bahnhofsplatz 1\, Göttingen\, 37073\, Deutschland
CATEGORIES:Sprechstunden
END:VEVENT
BEGIN:VEVENT
DTSTART;TZID=UTC:20280403T090000
DTEND;TZID=UTC:20280403T110000
DTSTAMP:20260424T044604
CREATED:20240224T201334Z
LAST-MODIFIED:20240504T044437Z
UID:10000324-1838365200-1838372400@bsw-goettingen.de
SUMMARY:Sprechstunde
DESCRIPTION:Wir sind für Sie da!\nUnser Seniorenberater Hardi Rezepka freut sich auf Ihren Besuch.
URL:https://bsw-goettingen.de/veranstaltung/sprechstunde-bahnhof-goettingen/2028-04-03/
LOCATION:BSW-Freizeittreff im Bahnhof\, Bahnhofsplatz 1\, Göttingen\, 37073\, Deutschland
CATEGORIES:Sprechstunden
END:VEVENT
BEGIN:VEVENT
DTSTART;TZID=UTC:20280410T090000
DTEND;TZID=UTC:20280410T110000
DTSTAMP:20260424T044604
CREATED:20240224T201334Z
LAST-MODIFIED:20240504T044437Z
UID:10000325-1838970000-1838977200@bsw-goettingen.de
SUMMARY:Sprechstunde
DESCRIPTION:Wir sind für Sie da!\nUnser Seniorenberater Hardi Rezepka freut sich auf Ihren Besuch.
URL:https://bsw-goettingen.de/veranstaltung/sprechstunde-bahnhof-goettingen/2028-04-10/
LOCATION:BSW-Freizeittreff im Bahnhof\, Bahnhofsplatz 1\, Göttingen\, 37073\, Deutschland
CATEGORIES:Sprechstunden
END:VEVENT
BEGIN:VEVENT
DTSTART;TZID=UTC:20280417T090000
DTEND;TZID=UTC:20280417T110000
DTSTAMP:20260424T044604
CREATED:20240224T201334Z
LAST-MODIFIED:20240504T044437Z
UID:10000326-1839574800-1839582000@bsw-goettingen.de
SUMMARY:Sprechstunde
DESCRIPTION:Wir sind für Sie da!\nUnser Seniorenberater Hardi Rezepka freut sich auf Ihren Besuch.
URL:https://bsw-goettingen.de/veranstaltung/sprechstunde-bahnhof-goettingen/2028-04-17/
LOCATION:BSW-Freizeittreff im Bahnhof\, Bahnhofsplatz 1\, Göttingen\, 37073\, Deutschland
CATEGORIES:Sprechstunden
END:VEVENT
BEGIN:VEVENT
DTSTART;TZID=UTC:20280424T090000
DTEND;TZID=UTC:20280424T110000
DTSTAMP:20260424T044604
CREATED:20240224T201334Z
LAST-MODIFIED:20240504T044437Z
UID:10000327-1840179600-1840186800@bsw-goettingen.de
SUMMARY:Sprechstunde
DESCRIPTION:Wir sind für Sie da!\nUnser Seniorenberater Hardi Rezepka freut sich auf Ihren Besuch.
URL:https://bsw-goettingen.de/veranstaltung/sprechstunde-bahnhof-goettingen/2028-04-24/
LOCATION:BSW-Freizeittreff im Bahnhof\, Bahnhofsplatz 1\, Göttingen\, 37073\, Deutschland
CATEGORIES:Sprechstunden
END:VEVENT
BEGIN:VEVENT
DTSTART;TZID=UTC:20280501T090000
DTEND;TZID=UTC:20280501T110000
DTSTAMP:20260424T044604
CREATED:20240224T201334Z
LAST-MODIFIED:20240504T044437Z
UID:10000328-1840784400-1840791600@bsw-goettingen.de
SUMMARY:Sprechstunde
DESCRIPTION:Wir sind für Sie da!\nUnser Seniorenberater Hardi Rezepka freut sich auf Ihren Besuch.
URL:https://bsw-goettingen.de/veranstaltung/sprechstunde-bahnhof-goettingen/2028-05-01/
LOCATION:BSW-Freizeittreff im Bahnhof\, Bahnhofsplatz 1\, Göttingen\, 37073\, Deutschland
CATEGORIES:Sprechstunden
END:VEVENT
BEGIN:VEVENT
DTSTART;TZID=UTC:20280508T090000
DTEND;TZID=UTC:20280508T110000
DTSTAMP:20260424T044604
CREATED:20240224T201334Z
LAST-MODIFIED:20240504T044437Z
UID:10000329-1841389200-1841396400@bsw-goettingen.de
SUMMARY:Sprechstunde
DESCRIPTION:Wir sind für Sie da!\nUnser Seniorenberater Hardi Rezepka freut sich auf Ihren Besuch.
URL:https://bsw-goettingen.de/veranstaltung/sprechstunde-bahnhof-goettingen/2028-05-08/
LOCATION:BSW-Freizeittreff im Bahnhof\, Bahnhofsplatz 1\, Göttingen\, 37073\, Deutschland
CATEGORIES:Sprechstunden
END:VEVENT
BEGIN:VEVENT
DTSTART;TZID=UTC:20280515T090000
DTEND;TZID=UTC:20280515T110000
DTSTAMP:20260424T044604
CREATED:20240224T201334Z
LAST-MODIFIED:20240504T044437Z
UID:10000330-1841994000-1842001200@bsw-goettingen.de
SUMMARY:Sprechstunde
DESCRIPTION:Wir sind für Sie da!\nUnser Seniorenberater Hardi Rezepka freut sich auf Ihren Besuch.
URL:https://bsw-goettingen.de/veranstaltung/sprechstunde-bahnhof-goettingen/2028-05-15/
LOCATION:BSW-Freizeittreff im Bahnhof\, Bahnhofsplatz 1\, Göttingen\, 37073\, Deutschland
CATEGORIES:Sprechstunden
END:VEVENT
BEGIN:VEVENT
DTSTART;TZID=UTC:20280522T090000
DTEND;TZID=UTC:20280522T110000
DTSTAMP:20260424T044604
CREATED:20240224T201334Z
LAST-MODIFIED:20240504T044437Z
UID:10000331-1842598800-1842606000@bsw-goettingen.de
SUMMARY:Sprechstunde
DESCRIPTION:Wir sind für Sie da!\nUnser Seniorenberater Hardi Rezepka freut sich auf Ihren Besuch.
URL:https://bsw-goettingen.de/veranstaltung/sprechstunde-bahnhof-goettingen/2028-05-22/
LOCATION:BSW-Freizeittreff im Bahnhof\, Bahnhofsplatz 1\, Göttingen\, 37073\, Deutschland
CATEGORIES:Sprechstunden
END:VEVENT
BEGIN:VEVENT
DTSTART;TZID=UTC:20280529T090000
DTEND;TZID=UTC:20280529T110000
DTSTAMP:20260424T044604
CREATED:20240224T201334Z
LAST-MODIFIED:20240504T044437Z
UID:10000332-1843203600-1843210800@bsw-goettingen.de
SUMMARY:Sprechstunde
DESCRIPTION:Wir sind für Sie da!\nUnser Seniorenberater Hardi Rezepka freut sich auf Ihren Besuch.
URL:https://bsw-goettingen.de/veranstaltung/sprechstunde-bahnhof-goettingen/2028-05-29/
LOCATION:BSW-Freizeittreff im Bahnhof\, Bahnhofsplatz 1\, Göttingen\, 37073\, Deutschland
CATEGORIES:Sprechstunden
END:VEVENT
BEGIN:VEVENT
DTSTART;TZID=UTC:20280605T090000
DTEND;TZID=UTC:20280605T110000
DTSTAMP:20260424T044604
CREATED:20240224T201334Z
LAST-MODIFIED:20240504T044437Z
UID:10000333-1843808400-1843815600@bsw-goettingen.de
SUMMARY:Sprechstunde
DESCRIPTION:Wir sind für Sie da!\nUnser Seniorenberater Hardi Rezepka freut sich auf Ihren Besuch.
URL:https://bsw-goettingen.de/veranstaltung/sprechstunde-bahnhof-goettingen/2028-06-05/
LOCATION:BSW-Freizeittreff im Bahnhof\, Bahnhofsplatz 1\, Göttingen\, 37073\, Deutschland
CATEGORIES:Sprechstunden
END:VEVENT
BEGIN:VEVENT
DTSTART;TZID=UTC:20280612T090000
DTEND;TZID=UTC:20280612T110000
DTSTAMP:20260424T044604
CREATED:20240224T201334Z
LAST-MODIFIED:20240504T044437Z
UID:10000334-1844413200-1844420400@bsw-goettingen.de
SUMMARY:Sprechstunde
DESCRIPTION:Wir sind für Sie da!\nUnser Seniorenberater Hardi Rezepka freut sich auf Ihren Besuch.
URL:https://bsw-goettingen.de/veranstaltung/sprechstunde-bahnhof-goettingen/2028-06-12/
LOCATION:BSW-Freizeittreff im Bahnhof\, Bahnhofsplatz 1\, Göttingen\, 37073\, Deutschland
CATEGORIES:Sprechstunden
END:VEVENT
BEGIN:VEVENT
DTSTART;TZID=UTC:20280619T090000
DTEND;TZID=UTC:20280619T110000
DTSTAMP:20260424T044604
CREATED:20240224T201334Z
LAST-MODIFIED:20240504T044437Z
UID:10000335-1845018000-1845025200@bsw-goettingen.de
SUMMARY:Sprechstunde
DESCRIPTION:Wir sind für Sie da!\nUnser Seniorenberater Hardi Rezepka freut sich auf Ihren Besuch.
URL:https://bsw-goettingen.de/veranstaltung/sprechstunde-bahnhof-goettingen/2028-06-19/
LOCATION:BSW-Freizeittreff im Bahnhof\, Bahnhofsplatz 1\, Göttingen\, 37073\, Deutschland
CATEGORIES:Sprechstunden
END:VEVENT
BEGIN:VEVENT
DTSTART;TZID=UTC:20280626T090000
DTEND;TZID=UTC:20280626T110000
DTSTAMP:20260424T044604
CREATED:20240224T201334Z
LAST-MODIFIED:20240504T044437Z
UID:10000336-1845622800-1845630000@bsw-goettingen.de
SUMMARY:Sprechstunde
DESCRIPTION:Wir sind für Sie da!\nUnser Seniorenberater Hardi Rezepka freut sich auf Ihren Besuch.
URL:https://bsw-goettingen.de/veranstaltung/sprechstunde-bahnhof-goettingen/2028-06-26/
LOCATION:BSW-Freizeittreff im Bahnhof\, Bahnhofsplatz 1\, Göttingen\, 37073\, Deutschland
CATEGORIES:Sprechstunden
END:VEVENT
END:VCALENDAR