BEGIN:VCALENDAR
VERSION:2.0
PRODID:-//Stiftung BSW - ECPv6.7.1//NONSGML v1.0//EN
CALSCALE:GREGORIAN
METHOD:PUBLISH
X-ORIGINAL-URL:https://bsw-goettingen.de
X-WR-CALDESC:Veranstaltungen für Stiftung BSW
REFRESH-INTERVAL;VALUE=DURATION:PT1H
X-Robots-Tag:noindex
X-PUBLISHED-TTL:PT1H
BEGIN:VTIMEZONE
TZID:UTC
BEGIN:STANDARD
TZOFFSETFROM:+0000
TZOFFSETTO:+0000
TZNAME:UTC
DTSTART:20280101T000000
END:STANDARD
END:VTIMEZONE
BEGIN:VEVENT
DTSTART;TZID=UTC:20280814T090000
DTEND;TZID=UTC:20280814T110000
DTSTAMP:20260424T100322
CREATED:20240224T201334Z
LAST-MODIFIED:20240504T044437Z
UID:10000343-1849856400-1849863600@bsw-goettingen.de
SUMMARY:Sprechstunde
DESCRIPTION:Wir sind für Sie da!\nUnser Seniorenberater Hardi Rezepka freut sich auf Ihren Besuch.
URL:https://bsw-goettingen.de/veranstaltung/sprechstunde-bahnhof-goettingen/2028-08-14/
LOCATION:BSW-Freizeittreff im Bahnhof\, Bahnhofsplatz 1\, Göttingen\, 37073\, Deutschland
CATEGORIES:Sprechstunden
END:VEVENT
BEGIN:VEVENT
DTSTART;TZID=UTC:20280821T090000
DTEND;TZID=UTC:20280821T110000
DTSTAMP:20260424T100322
CREATED:20240224T201334Z
LAST-MODIFIED:20240504T044437Z
UID:10000344-1850461200-1850468400@bsw-goettingen.de
SUMMARY:Sprechstunde
DESCRIPTION:Wir sind für Sie da!\nUnser Seniorenberater Hardi Rezepka freut sich auf Ihren Besuch.
URL:https://bsw-goettingen.de/veranstaltung/sprechstunde-bahnhof-goettingen/2028-08-21/
LOCATION:BSW-Freizeittreff im Bahnhof\, Bahnhofsplatz 1\, Göttingen\, 37073\, Deutschland
CATEGORIES:Sprechstunden
END:VEVENT
BEGIN:VEVENT
DTSTART;TZID=UTC:20280828T090000
DTEND;TZID=UTC:20280828T110000
DTSTAMP:20260424T100322
CREATED:20240224T201334Z
LAST-MODIFIED:20240504T044437Z
UID:10000345-1851066000-1851073200@bsw-goettingen.de
SUMMARY:Sprechstunde
DESCRIPTION:Wir sind für Sie da!\nUnser Seniorenberater Hardi Rezepka freut sich auf Ihren Besuch.
URL:https://bsw-goettingen.de/veranstaltung/sprechstunde-bahnhof-goettingen/2028-08-28/
LOCATION:BSW-Freizeittreff im Bahnhof\, Bahnhofsplatz 1\, Göttingen\, 37073\, Deutschland
CATEGORIES:Sprechstunden
END:VEVENT
BEGIN:VEVENT
DTSTART;TZID=UTC:20280904T090000
DTEND;TZID=UTC:20280904T110000
DTSTAMP:20260424T100322
CREATED:20240224T201334Z
LAST-MODIFIED:20240504T044437Z
UID:10000346-1851670800-1851678000@bsw-goettingen.de
SUMMARY:Sprechstunde
DESCRIPTION:Wir sind für Sie da!\nUnser Seniorenberater Hardi Rezepka freut sich auf Ihren Besuch.
URL:https://bsw-goettingen.de/veranstaltung/sprechstunde-bahnhof-goettingen/2028-09-04/
LOCATION:BSW-Freizeittreff im Bahnhof\, Bahnhofsplatz 1\, Göttingen\, 37073\, Deutschland
CATEGORIES:Sprechstunden
END:VEVENT
BEGIN:VEVENT
DTSTART;TZID=UTC:20280911T090000
DTEND;TZID=UTC:20280911T110000
DTSTAMP:20260424T100322
CREATED:20240224T201334Z
LAST-MODIFIED:20240504T044437Z
UID:10000347-1852275600-1852282800@bsw-goettingen.de
SUMMARY:Sprechstunde
DESCRIPTION:Wir sind für Sie da!\nUnser Seniorenberater Hardi Rezepka freut sich auf Ihren Besuch.
URL:https://bsw-goettingen.de/veranstaltung/sprechstunde-bahnhof-goettingen/2028-09-11/
LOCATION:BSW-Freizeittreff im Bahnhof\, Bahnhofsplatz 1\, Göttingen\, 37073\, Deutschland
CATEGORIES:Sprechstunden
END:VEVENT
BEGIN:VEVENT
DTSTART;TZID=UTC:20280918T090000
DTEND;TZID=UTC:20280918T110000
DTSTAMP:20260424T100322
CREATED:20240224T201334Z
LAST-MODIFIED:20240504T044437Z
UID:10000348-1852880400-1852887600@bsw-goettingen.de
SUMMARY:Sprechstunde
DESCRIPTION:Wir sind für Sie da!\nUnser Seniorenberater Hardi Rezepka freut sich auf Ihren Besuch.
URL:https://bsw-goettingen.de/veranstaltung/sprechstunde-bahnhof-goettingen/2028-09-18/
LOCATION:BSW-Freizeittreff im Bahnhof\, Bahnhofsplatz 1\, Göttingen\, 37073\, Deutschland
CATEGORIES:Sprechstunden
END:VEVENT
BEGIN:VEVENT
DTSTART;TZID=UTC:20280925T090000
DTEND;TZID=UTC:20280925T110000
DTSTAMP:20260424T100322
CREATED:20240224T201334Z
LAST-MODIFIED:20240504T044437Z
UID:10000349-1853485200-1853492400@bsw-goettingen.de
SUMMARY:Sprechstunde
DESCRIPTION:Wir sind für Sie da!\nUnser Seniorenberater Hardi Rezepka freut sich auf Ihren Besuch.
URL:https://bsw-goettingen.de/veranstaltung/sprechstunde-bahnhof-goettingen/2028-09-25/
LOCATION:BSW-Freizeittreff im Bahnhof\, Bahnhofsplatz 1\, Göttingen\, 37073\, Deutschland
CATEGORIES:Sprechstunden
END:VEVENT
BEGIN:VEVENT
DTSTART;TZID=UTC:20281002T090000
DTEND;TZID=UTC:20281002T110000
DTSTAMP:20260424T100322
CREATED:20240224T201334Z
LAST-MODIFIED:20240504T044437Z
UID:10000350-1854090000-1854097200@bsw-goettingen.de
SUMMARY:Sprechstunde
DESCRIPTION:Wir sind für Sie da!\nUnser Seniorenberater Hardi Rezepka freut sich auf Ihren Besuch.
URL:https://bsw-goettingen.de/veranstaltung/sprechstunde-bahnhof-goettingen/2028-10-02/
LOCATION:BSW-Freizeittreff im Bahnhof\, Bahnhofsplatz 1\, Göttingen\, 37073\, Deutschland
CATEGORIES:Sprechstunden
END:VEVENT
BEGIN:VEVENT
DTSTART;TZID=UTC:20281009T090000
DTEND;TZID=UTC:20281009T110000
DTSTAMP:20260424T100322
CREATED:20240224T201334Z
LAST-MODIFIED:20240504T044437Z
UID:10000351-1854694800-1854702000@bsw-goettingen.de
SUMMARY:Sprechstunde
DESCRIPTION:Wir sind für Sie da!\nUnser Seniorenberater Hardi Rezepka freut sich auf Ihren Besuch.
URL:https://bsw-goettingen.de/veranstaltung/sprechstunde-bahnhof-goettingen/2028-10-09/
LOCATION:BSW-Freizeittreff im Bahnhof\, Bahnhofsplatz 1\, Göttingen\, 37073\, Deutschland
CATEGORIES:Sprechstunden
END:VEVENT
BEGIN:VEVENT
DTSTART;TZID=UTC:20281016T090000
DTEND;TZID=UTC:20281016T110000
DTSTAMP:20260424T100322
CREATED:20240224T201334Z
LAST-MODIFIED:20240504T044437Z
UID:10000352-1855299600-1855306800@bsw-goettingen.de
SUMMARY:Sprechstunde
DESCRIPTION:Wir sind für Sie da!\nUnser Seniorenberater Hardi Rezepka freut sich auf Ihren Besuch.
URL:https://bsw-goettingen.de/veranstaltung/sprechstunde-bahnhof-goettingen/2028-10-16/
LOCATION:BSW-Freizeittreff im Bahnhof\, Bahnhofsplatz 1\, Göttingen\, 37073\, Deutschland
CATEGORIES:Sprechstunden
END:VEVENT
BEGIN:VEVENT
DTSTART;TZID=UTC:20281023T090000
DTEND;TZID=UTC:20281023T110000
DTSTAMP:20260424T100322
CREATED:20240224T201334Z
LAST-MODIFIED:20240504T044437Z
UID:10000353-1855904400-1855911600@bsw-goettingen.de
SUMMARY:Sprechstunde
DESCRIPTION:Wir sind für Sie da!\nUnser Seniorenberater Hardi Rezepka freut sich auf Ihren Besuch.
URL:https://bsw-goettingen.de/veranstaltung/sprechstunde-bahnhof-goettingen/2028-10-23/
LOCATION:BSW-Freizeittreff im Bahnhof\, Bahnhofsplatz 1\, Göttingen\, 37073\, Deutschland
CATEGORIES:Sprechstunden
END:VEVENT
BEGIN:VEVENT
DTSTART;TZID=UTC:20281030T090000
DTEND;TZID=UTC:20281030T110000
DTSTAMP:20260424T100322
CREATED:20240224T201334Z
LAST-MODIFIED:20240504T044437Z
UID:10000354-1856509200-1856516400@bsw-goettingen.de
SUMMARY:Sprechstunde
DESCRIPTION:Wir sind für Sie da!\nUnser Seniorenberater Hardi Rezepka freut sich auf Ihren Besuch.
URL:https://bsw-goettingen.de/veranstaltung/sprechstunde-bahnhof-goettingen/2028-10-30/
LOCATION:BSW-Freizeittreff im Bahnhof\, Bahnhofsplatz 1\, Göttingen\, 37073\, Deutschland
CATEGORIES:Sprechstunden
END:VEVENT
BEGIN:VEVENT
DTSTART;TZID=UTC:20281106T090000
DTEND;TZID=UTC:20281106T110000
DTSTAMP:20260424T100322
CREATED:20240224T201334Z
LAST-MODIFIED:20240504T044437Z
UID:10000355-1857114000-1857121200@bsw-goettingen.de
SUMMARY:Sprechstunde
DESCRIPTION:Wir sind für Sie da!\nUnser Seniorenberater Hardi Rezepka freut sich auf Ihren Besuch.
URL:https://bsw-goettingen.de/veranstaltung/sprechstunde-bahnhof-goettingen/2028-11-06/
LOCATION:BSW-Freizeittreff im Bahnhof\, Bahnhofsplatz 1\, Göttingen\, 37073\, Deutschland
CATEGORIES:Sprechstunden
END:VEVENT
BEGIN:VEVENT
DTSTART;TZID=UTC:20281113T090000
DTEND;TZID=UTC:20281113T110000
DTSTAMP:20260424T100322
CREATED:20240224T201334Z
LAST-MODIFIED:20240504T044437Z
UID:10000356-1857718800-1857726000@bsw-goettingen.de
SUMMARY:Sprechstunde
DESCRIPTION:Wir sind für Sie da!\nUnser Seniorenberater Hardi Rezepka freut sich auf Ihren Besuch.
URL:https://bsw-goettingen.de/veranstaltung/sprechstunde-bahnhof-goettingen/2028-11-13/
LOCATION:BSW-Freizeittreff im Bahnhof\, Bahnhofsplatz 1\, Göttingen\, 37073\, Deutschland
CATEGORIES:Sprechstunden
END:VEVENT
BEGIN:VEVENT
DTSTART;TZID=UTC:20281120T090000
DTEND;TZID=UTC:20281120T110000
DTSTAMP:20260424T100322
CREATED:20240224T201334Z
LAST-MODIFIED:20240504T044437Z
UID:10000357-1858323600-1858330800@bsw-goettingen.de
SUMMARY:Sprechstunde
DESCRIPTION:Wir sind für Sie da!\nUnser Seniorenberater Hardi Rezepka freut sich auf Ihren Besuch.
URL:https://bsw-goettingen.de/veranstaltung/sprechstunde-bahnhof-goettingen/2028-11-20/
LOCATION:BSW-Freizeittreff im Bahnhof\, Bahnhofsplatz 1\, Göttingen\, 37073\, Deutschland
CATEGORIES:Sprechstunden
END:VEVENT
BEGIN:VEVENT
DTSTART;TZID=UTC:20281127T090000
DTEND;TZID=UTC:20281127T110000
DTSTAMP:20260424T100322
CREATED:20240224T201334Z
LAST-MODIFIED:20240504T044437Z
UID:10000358-1858928400-1858935600@bsw-goettingen.de
SUMMARY:Sprechstunde
DESCRIPTION:Wir sind für Sie da!\nUnser Seniorenberater Hardi Rezepka freut sich auf Ihren Besuch.
URL:https://bsw-goettingen.de/veranstaltung/sprechstunde-bahnhof-goettingen/2028-11-27/
LOCATION:BSW-Freizeittreff im Bahnhof\, Bahnhofsplatz 1\, Göttingen\, 37073\, Deutschland
CATEGORIES:Sprechstunden
END:VEVENT
BEGIN:VEVENT
DTSTART;TZID=UTC:20281204T090000
DTEND;TZID=UTC:20281204T110000
DTSTAMP:20260424T100322
CREATED:20240224T201334Z
LAST-MODIFIED:20240504T044437Z
UID:10000359-1859533200-1859540400@bsw-goettingen.de
SUMMARY:Sprechstunde
DESCRIPTION:Wir sind für Sie da!\nUnser Seniorenberater Hardi Rezepka freut sich auf Ihren Besuch.
URL:https://bsw-goettingen.de/veranstaltung/sprechstunde-bahnhof-goettingen/2028-12-04/
LOCATION:BSW-Freizeittreff im Bahnhof\, Bahnhofsplatz 1\, Göttingen\, 37073\, Deutschland
CATEGORIES:Sprechstunden
END:VEVENT
BEGIN:VEVENT
DTSTART;TZID=UTC:20281211T090000
DTEND;TZID=UTC:20281211T110000
DTSTAMP:20260424T100322
CREATED:20240224T201334Z
LAST-MODIFIED:20240504T044437Z
UID:10000360-1860138000-1860145200@bsw-goettingen.de
SUMMARY:Sprechstunde
DESCRIPTION:Wir sind für Sie da!\nUnser Seniorenberater Hardi Rezepka freut sich auf Ihren Besuch.
URL:https://bsw-goettingen.de/veranstaltung/sprechstunde-bahnhof-goettingen/2028-12-11/
LOCATION:BSW-Freizeittreff im Bahnhof\, Bahnhofsplatz 1\, Göttingen\, 37073\, Deutschland
CATEGORIES:Sprechstunden
END:VEVENT
BEGIN:VEVENT
DTSTART;TZID=UTC:20281218T090000
DTEND;TZID=UTC:20281218T110000
DTSTAMP:20260424T100322
CREATED:20240224T201334Z
LAST-MODIFIED:20240504T044437Z
UID:10000361-1860742800-1860750000@bsw-goettingen.de
SUMMARY:Sprechstunde
DESCRIPTION:Wir sind für Sie da!\nUnser Seniorenberater Hardi Rezepka freut sich auf Ihren Besuch.
URL:https://bsw-goettingen.de/veranstaltung/sprechstunde-bahnhof-goettingen/2028-12-18/
LOCATION:BSW-Freizeittreff im Bahnhof\, Bahnhofsplatz 1\, Göttingen\, 37073\, Deutschland
CATEGORIES:Sprechstunden
END:VEVENT
BEGIN:VEVENT
DTSTART;TZID=UTC:20281225T090000
DTEND;TZID=UTC:20281225T110000
DTSTAMP:20260424T100322
CREATED:20240224T201334Z
LAST-MODIFIED:20240504T044437Z
UID:10000362-1861347600-1861354800@bsw-goettingen.de
SUMMARY:Sprechstunde
DESCRIPTION:Wir sind für Sie da!\nUnser Seniorenberater Hardi Rezepka freut sich auf Ihren Besuch.
URL:https://bsw-goettingen.de/veranstaltung/sprechstunde-bahnhof-goettingen/2028-12-25/
LOCATION:BSW-Freizeittreff im Bahnhof\, Bahnhofsplatz 1\, Göttingen\, 37073\, Deutschland
CATEGORIES:Sprechstunden
END:VEVENT
BEGIN:VEVENT
DTSTART;TZID=UTC:20290101T090000
DTEND;TZID=UTC:20290101T110000
DTSTAMP:20260424T100322
CREATED:20240224T201334Z
LAST-MODIFIED:20240504T044437Z
UID:10000363-1861952400-1861959600@bsw-goettingen.de
SUMMARY:Sprechstunde
DESCRIPTION:Wir sind für Sie da!\nUnser Seniorenberater Hardi Rezepka freut sich auf Ihren Besuch.
URL:https://bsw-goettingen.de/veranstaltung/sprechstunde-bahnhof-goettingen/2029-01-01/
LOCATION:BSW-Freizeittreff im Bahnhof\, Bahnhofsplatz 1\, Göttingen\, 37073\, Deutschland
CATEGORIES:Sprechstunden
END:VEVENT
BEGIN:VEVENT
DTSTART;TZID=UTC:20290108T090000
DTEND;TZID=UTC:20290108T110000
DTSTAMP:20260424T100322
CREATED:20240224T201334Z
LAST-MODIFIED:20240504T044437Z
UID:10000364-1862557200-1862564400@bsw-goettingen.de
SUMMARY:Sprechstunde
DESCRIPTION:Wir sind für Sie da!\nUnser Seniorenberater Hardi Rezepka freut sich auf Ihren Besuch.
URL:https://bsw-goettingen.de/veranstaltung/sprechstunde-bahnhof-goettingen/2029-01-08/
LOCATION:BSW-Freizeittreff im Bahnhof\, Bahnhofsplatz 1\, Göttingen\, 37073\, Deutschland
CATEGORIES:Sprechstunden
END:VEVENT
BEGIN:VEVENT
DTSTART;TZID=UTC:20290115T090000
DTEND;TZID=UTC:20290115T110000
DTSTAMP:20260424T100322
CREATED:20240224T201334Z
LAST-MODIFIED:20240504T044437Z
UID:10000365-1863162000-1863169200@bsw-goettingen.de
SUMMARY:Sprechstunde
DESCRIPTION:Wir sind für Sie da!\nUnser Seniorenberater Hardi Rezepka freut sich auf Ihren Besuch.
URL:https://bsw-goettingen.de/veranstaltung/sprechstunde-bahnhof-goettingen/2029-01-15/
LOCATION:BSW-Freizeittreff im Bahnhof\, Bahnhofsplatz 1\, Göttingen\, 37073\, Deutschland
CATEGORIES:Sprechstunden
END:VEVENT
BEGIN:VEVENT
DTSTART;TZID=UTC:20290122T090000
DTEND;TZID=UTC:20290122T110000
DTSTAMP:20260424T100322
CREATED:20240224T201334Z
LAST-MODIFIED:20240504T044437Z
UID:10000366-1863766800-1863774000@bsw-goettingen.de
SUMMARY:Sprechstunde
DESCRIPTION:Wir sind für Sie da!\nUnser Seniorenberater Hardi Rezepka freut sich auf Ihren Besuch.
URL:https://bsw-goettingen.de/veranstaltung/sprechstunde-bahnhof-goettingen/2029-01-22/
LOCATION:BSW-Freizeittreff im Bahnhof\, Bahnhofsplatz 1\, Göttingen\, 37073\, Deutschland
CATEGORIES:Sprechstunden
END:VEVENT
BEGIN:VEVENT
DTSTART;TZID=UTC:20290129T090000
DTEND;TZID=UTC:20290129T110000
DTSTAMP:20260424T100322
CREATED:20240224T201334Z
LAST-MODIFIED:20240504T044437Z
UID:10000367-1864371600-1864378800@bsw-goettingen.de
SUMMARY:Sprechstunde
DESCRIPTION:Wir sind für Sie da!\nUnser Seniorenberater Hardi Rezepka freut sich auf Ihren Besuch.
URL:https://bsw-goettingen.de/veranstaltung/sprechstunde-bahnhof-goettingen/2029-01-29/
LOCATION:BSW-Freizeittreff im Bahnhof\, Bahnhofsplatz 1\, Göttingen\, 37073\, Deutschland
CATEGORIES:Sprechstunden
END:VEVENT
BEGIN:VEVENT
DTSTART;TZID=UTC:20290205T090000
DTEND;TZID=UTC:20290205T110000
DTSTAMP:20260424T100322
CREATED:20240224T201334Z
LAST-MODIFIED:20240504T044437Z
UID:10000368-1864976400-1864983600@bsw-goettingen.de
SUMMARY:Sprechstunde
DESCRIPTION:Wir sind für Sie da!\nUnser Seniorenberater Hardi Rezepka freut sich auf Ihren Besuch.
URL:https://bsw-goettingen.de/veranstaltung/sprechstunde-bahnhof-goettingen/2029-02-05/
LOCATION:BSW-Freizeittreff im Bahnhof\, Bahnhofsplatz 1\, Göttingen\, 37073\, Deutschland
CATEGORIES:Sprechstunden
END:VEVENT
BEGIN:VEVENT
DTSTART;TZID=UTC:20290212T090000
DTEND;TZID=UTC:20290212T110000
DTSTAMP:20260424T100322
CREATED:20240224T201334Z
LAST-MODIFIED:20240504T044437Z
UID:10000369-1865581200-1865588400@bsw-goettingen.de
SUMMARY:Sprechstunde
DESCRIPTION:Wir sind für Sie da!\nUnser Seniorenberater Hardi Rezepka freut sich auf Ihren Besuch.
URL:https://bsw-goettingen.de/veranstaltung/sprechstunde-bahnhof-goettingen/2029-02-12/
LOCATION:BSW-Freizeittreff im Bahnhof\, Bahnhofsplatz 1\, Göttingen\, 37073\, Deutschland
CATEGORIES:Sprechstunden
END:VEVENT
BEGIN:VEVENT
DTSTART;TZID=UTC:20290219T090000
DTEND;TZID=UTC:20290219T110000
DTSTAMP:20260424T100322
CREATED:20240224T201334Z
LAST-MODIFIED:20240504T044437Z
UID:10000370-1866186000-1866193200@bsw-goettingen.de
SUMMARY:Sprechstunde
DESCRIPTION:Wir sind für Sie da!\nUnser Seniorenberater Hardi Rezepka freut sich auf Ihren Besuch.
URL:https://bsw-goettingen.de/veranstaltung/sprechstunde-bahnhof-goettingen/2029-02-19/
LOCATION:BSW-Freizeittreff im Bahnhof\, Bahnhofsplatz 1\, Göttingen\, 37073\, Deutschland
CATEGORIES:Sprechstunden
END:VEVENT
BEGIN:VEVENT
DTSTART;TZID=UTC:20290226T090000
DTEND;TZID=UTC:20290226T110000
DTSTAMP:20260424T100322
CREATED:20240224T201334Z
LAST-MODIFIED:20240504T044437Z
UID:10000371-1866790800-1866798000@bsw-goettingen.de
SUMMARY:Sprechstunde
DESCRIPTION:Wir sind für Sie da!\nUnser Seniorenberater Hardi Rezepka freut sich auf Ihren Besuch.
URL:https://bsw-goettingen.de/veranstaltung/sprechstunde-bahnhof-goettingen/2029-02-26/
LOCATION:BSW-Freizeittreff im Bahnhof\, Bahnhofsplatz 1\, Göttingen\, 37073\, Deutschland
CATEGORIES:Sprechstunden
END:VEVENT
BEGIN:VEVENT
DTSTART;TZID=UTC:20290305T090000
DTEND;TZID=UTC:20290305T110000
DTSTAMP:20260424T100322
CREATED:20240224T201334Z
LAST-MODIFIED:20240504T044437Z
UID:10000372-1867395600-1867402800@bsw-goettingen.de
SUMMARY:Sprechstunde
DESCRIPTION:Wir sind für Sie da!\nUnser Seniorenberater Hardi Rezepka freut sich auf Ihren Besuch.
URL:https://bsw-goettingen.de/veranstaltung/sprechstunde-bahnhof-goettingen/2029-03-05/
LOCATION:BSW-Freizeittreff im Bahnhof\, Bahnhofsplatz 1\, Göttingen\, 37073\, Deutschland
CATEGORIES:Sprechstunden
END:VEVENT
END:VCALENDAR