BEGIN:VCALENDAR
VERSION:2.0
PRODID:-//Stiftung BSW - ECPv6.7.1//NONSGML v1.0//EN
CALSCALE:GREGORIAN
METHOD:PUBLISH
X-ORIGINAL-URL:https://bsw-goettingen.de
X-WR-CALDESC:Veranstaltungen für Stiftung BSW
REFRESH-INTERVAL;VALUE=DURATION:PT1H
X-Robots-Tag:noindex
X-PUBLISHED-TTL:PT1H
BEGIN:VTIMEZONE
TZID:UTC
BEGIN:STANDARD
TZOFFSETFROM:+0000
TZOFFSETTO:+0000
TZNAME:UTC
DTSTART:20280101T000000
END:STANDARD
END:VTIMEZONE
BEGIN:VEVENT
DTSTART;TZID=UTC:20280914T190000
DTEND;TZID=UTC:20280914T210000
DTSTAMP:20260421T210507
CREATED:20240226T201433Z
LAST-MODIFIED:20240504T044834Z
UID:10001014-1852570800-1852578000@bsw-goettingen.de
SUMMARY:Skatgruppe
DESCRIPTION:
URL:https://bsw-goettingen.de/veranstaltung/skatgruppe-goettingen/2028-09-14/
LOCATION:BSW-Freizeittreff im Bahnhof\, Bahnhofsplatz 1\, Göttingen\, 37073\, Deutschland
CATEGORIES:Veranstaltungen
END:VEVENT
BEGIN:VEVENT
DTSTART;TZID=UTC:20280928T190000
DTEND;TZID=UTC:20280928T210000
DTSTAMP:20260421T210507
CREATED:20240226T201433Z
LAST-MODIFIED:20240504T044834Z
UID:10001015-1853780400-1853787600@bsw-goettingen.de
SUMMARY:Skatgruppe
DESCRIPTION:
URL:https://bsw-goettingen.de/veranstaltung/skatgruppe-goettingen/2028-09-28/
LOCATION:BSW-Freizeittreff im Bahnhof\, Bahnhofsplatz 1\, Göttingen\, 37073\, Deutschland
CATEGORIES:Veranstaltungen
END:VEVENT
END:VCALENDAR