BEGIN:VCALENDAR
VERSION:2.0
PRODID:-//Stiftung BSW - ECPv6.7.1//NONSGML v1.0//EN
CALSCALE:GREGORIAN
METHOD:PUBLISH
X-WR-CALNAME:Stiftung BSW
X-ORIGINAL-URL:https://bsw-goettingen.de
X-WR-CALDESC:Veranstaltungen für Stiftung BSW
REFRESH-INTERVAL;VALUE=DURATION:PT1H
X-Robots-Tag:noindex
X-PUBLISHED-TTL:PT1H
BEGIN:VTIMEZONE
TZID:UTC
BEGIN:STANDARD
TZOFFSETFROM:+0000
TZOFFSETTO:+0000
TZNAME:UTC
DTSTART:20280101T000000
END:STANDARD
END:VTIMEZONE
BEGIN:VEVENT
DTSTART;TZID=UTC:20280403T090000
DTEND;TZID=UTC:20280403T110000
DTSTAMP:20260422T033809
CREATED:20240224T201334Z
LAST-MODIFIED:20240504T044437Z
UID:10000324-1838365200-1838372400@bsw-goettingen.de
SUMMARY:Sprechstunde
DESCRIPTION:Wir sind für Sie da!\nUnser Seniorenberater Hardi Rezepka freut sich auf Ihren Besuch.
URL:https://bsw-goettingen.de/veranstaltung/sprechstunde-bahnhof-goettingen/2028-04-03/
LOCATION:BSW-Freizeittreff im Bahnhof\, Bahnhofsplatz 1\, Göttingen\, 37073\, Deutschland
CATEGORIES:Sprechstunden
END:VEVENT
BEGIN:VEVENT
DTSTART;TZID=UTC:20280403T150000
DTEND;TZID=UTC:20280403T170000
DTSTAMP:20260422T033809
CREATED:20240226T202935Z
LAST-MODIFIED:20240504T044740Z
UID:10000844-1838386800-1838394000@bsw-goettingen.de
SUMMARY:Schachgruppe
DESCRIPTION:
URL:https://bsw-goettingen.de/veranstaltung/schachgruppe-bsw-goettingen/2028-04-03/
LOCATION:BSW-Freizeittreff im Bahnhof\, Bahnhofsplatz 1\, Göttingen\, 37073\, Deutschland
CATEGORIES:Veranstaltungen
END:VEVENT
BEGIN:VEVENT
DTSTART;TZID=UTC:20280410T090000
DTEND;TZID=UTC:20280410T110000
DTSTAMP:20260422T033809
CREATED:20240224T201334Z
LAST-MODIFIED:20240504T044437Z
UID:10000325-1838970000-1838977200@bsw-goettingen.de
SUMMARY:Sprechstunde
DESCRIPTION:Wir sind für Sie da!\nUnser Seniorenberater Hardi Rezepka freut sich auf Ihren Besuch.
URL:https://bsw-goettingen.de/veranstaltung/sprechstunde-bahnhof-goettingen/2028-04-10/
LOCATION:BSW-Freizeittreff im Bahnhof\, Bahnhofsplatz 1\, Göttingen\, 37073\, Deutschland
CATEGORIES:Sprechstunden
END:VEVENT
BEGIN:VEVENT
DTSTART;TZID=UTC:20280410T150000
DTEND;TZID=UTC:20280410T170000
DTSTAMP:20260422T033809
CREATED:20240226T202935Z
LAST-MODIFIED:20240504T044740Z
UID:10000845-1838991600-1838998800@bsw-goettingen.de
SUMMARY:Schachgruppe
DESCRIPTION:
URL:https://bsw-goettingen.de/veranstaltung/schachgruppe-bsw-goettingen/2028-04-10/
LOCATION:BSW-Freizeittreff im Bahnhof\, Bahnhofsplatz 1\, Göttingen\, 37073\, Deutschland
CATEGORIES:Veranstaltungen
END:VEVENT
BEGIN:VEVENT
DTSTART;TZID=UTC:20280413T140000
DTEND;TZID=UTC:20280413T160000
DTSTAMP:20260422T033809
CREATED:20240226T201737Z
LAST-MODIFIED:20240504T044852Z
UID:10001133-1839247200-1839254400@bsw-goettingen.de
SUMMARY:Knobelgruppe
DESCRIPTION:
URL:https://bsw-goettingen.de/veranstaltung/knobelgruppe-goettingen/2028-04-13/
LOCATION:BSW-Freizeittreff im Bahnhof\, Bahnhofsplatz 1\, Göttingen\, 37073\, Deutschland
CATEGORIES:Veranstaltungen
END:VEVENT
BEGIN:VEVENT
DTSTART;TZID=UTC:20280413T190000
DTEND;TZID=UTC:20280413T210000
DTSTAMP:20260422T033809
CREATED:20240226T201433Z
LAST-MODIFIED:20240504T044834Z
UID:10001003-1839265200-1839272400@bsw-goettingen.de
SUMMARY:Skatgruppe
DESCRIPTION:
URL:https://bsw-goettingen.de/veranstaltung/skatgruppe-goettingen/2028-04-13/
LOCATION:BSW-Freizeittreff im Bahnhof\, Bahnhofsplatz 1\, Göttingen\, 37073\, Deutschland
CATEGORIES:Veranstaltungen
END:VEVENT
BEGIN:VEVENT
DTSTART;TZID=UTC:20280417T090000
DTEND;TZID=UTC:20280417T110000
DTSTAMP:20260422T033809
CREATED:20240224T201334Z
LAST-MODIFIED:20240504T044437Z
UID:10000326-1839574800-1839582000@bsw-goettingen.de
SUMMARY:Sprechstunde
DESCRIPTION:Wir sind für Sie da!\nUnser Seniorenberater Hardi Rezepka freut sich auf Ihren Besuch.
URL:https://bsw-goettingen.de/veranstaltung/sprechstunde-bahnhof-goettingen/2028-04-17/
LOCATION:BSW-Freizeittreff im Bahnhof\, Bahnhofsplatz 1\, Göttingen\, 37073\, Deutschland
CATEGORIES:Sprechstunden
END:VEVENT
BEGIN:VEVENT
DTSTART;TZID=UTC:20280417T150000
DTEND;TZID=UTC:20280417T170000
DTSTAMP:20260422T033809
CREATED:20240226T202935Z
LAST-MODIFIED:20240504T044740Z
UID:10000846-1839596400-1839603600@bsw-goettingen.de
SUMMARY:Schachgruppe
DESCRIPTION:
URL:https://bsw-goettingen.de/veranstaltung/schachgruppe-bsw-goettingen/2028-04-17/
LOCATION:BSW-Freizeittreff im Bahnhof\, Bahnhofsplatz 1\, Göttingen\, 37073\, Deutschland
CATEGORIES:Veranstaltungen
END:VEVENT
BEGIN:VEVENT
DTSTART;TZID=UTC:20280424T090000
DTEND;TZID=UTC:20280424T110000
DTSTAMP:20260422T033809
CREATED:20240224T201334Z
LAST-MODIFIED:20240504T044437Z
UID:10000327-1840179600-1840186800@bsw-goettingen.de
SUMMARY:Sprechstunde
DESCRIPTION:Wir sind für Sie da!\nUnser Seniorenberater Hardi Rezepka freut sich auf Ihren Besuch.
URL:https://bsw-goettingen.de/veranstaltung/sprechstunde-bahnhof-goettingen/2028-04-24/
LOCATION:BSW-Freizeittreff im Bahnhof\, Bahnhofsplatz 1\, Göttingen\, 37073\, Deutschland
CATEGORIES:Sprechstunden
END:VEVENT
BEGIN:VEVENT
DTSTART;TZID=UTC:20280424T150000
DTEND;TZID=UTC:20280424T170000
DTSTAMP:20260422T033809
CREATED:20240226T202935Z
LAST-MODIFIED:20240504T044740Z
UID:10000847-1840201200-1840208400@bsw-goettingen.de
SUMMARY:Schachgruppe
DESCRIPTION:
URL:https://bsw-goettingen.de/veranstaltung/schachgruppe-bsw-goettingen/2028-04-24/
LOCATION:BSW-Freizeittreff im Bahnhof\, Bahnhofsplatz 1\, Göttingen\, 37073\, Deutschland
CATEGORIES:Veranstaltungen
END:VEVENT
BEGIN:VEVENT
DTSTART;TZID=UTC:20280427T140000
DTEND;TZID=UTC:20280427T160000
DTSTAMP:20260422T033809
CREATED:20240226T201737Z
LAST-MODIFIED:20240504T044852Z
UID:10001134-1840456800-1840464000@bsw-goettingen.de
SUMMARY:Knobelgruppe
DESCRIPTION:
URL:https://bsw-goettingen.de/veranstaltung/knobelgruppe-goettingen/2028-04-27/
LOCATION:BSW-Freizeittreff im Bahnhof\, Bahnhofsplatz 1\, Göttingen\, 37073\, Deutschland
CATEGORIES:Veranstaltungen
END:VEVENT
BEGIN:VEVENT
DTSTART;TZID=UTC:20280427T190000
DTEND;TZID=UTC:20280427T210000
DTSTAMP:20260422T033809
CREATED:20240226T201433Z
LAST-MODIFIED:20240504T044834Z
UID:10001004-1840474800-1840482000@bsw-goettingen.de
SUMMARY:Skatgruppe
DESCRIPTION:
URL:https://bsw-goettingen.de/veranstaltung/skatgruppe-goettingen/2028-04-27/
LOCATION:BSW-Freizeittreff im Bahnhof\, Bahnhofsplatz 1\, Göttingen\, 37073\, Deutschland
CATEGORIES:Veranstaltungen
END:VEVENT
END:VCALENDAR