BEGIN:VCALENDAR
VERSION:2.0
PRODID:-//Stiftung BSW - ECPv6.7.1//NONSGML v1.0//EN
CALSCALE:GREGORIAN
METHOD:PUBLISH
X-ORIGINAL-URL:https://bsw-goettingen.de
X-WR-CALDESC:Veranstaltungen für Stiftung BSW
REFRESH-INTERVAL;VALUE=DURATION:PT1H
X-Robots-Tag:noindex
X-PUBLISHED-TTL:PT1H
BEGIN:VTIMEZONE
TZID:UTC
BEGIN:STANDARD
TZOFFSETFROM:+0000
TZOFFSETTO:+0000
TZNAME:UTC
DTSTART:20280101T000000
END:STANDARD
END:VTIMEZONE
BEGIN:VEVENT
DTSTART;TZID=UTC:20280203T140000
DTEND;TZID=UTC:20280203T160000
DTSTAMP:20260422T001000
CREATED:20240226T201737Z
LAST-MODIFIED:20240504T044852Z
UID:10001128-1833199200-1833206400@bsw-goettingen.de
SUMMARY:Knobelgruppe
DESCRIPTION:
URL:https://bsw-goettingen.de/veranstaltung/knobelgruppe-goettingen/2028-02-03/
LOCATION:BSW-Freizeittreff im Bahnhof\, Bahnhofsplatz 1\, Göttingen\, 37073\, Deutschland
CATEGORIES:Veranstaltungen
END:VEVENT
BEGIN:VEVENT
DTSTART;TZID=UTC:20280203T190000
DTEND;TZID=UTC:20280203T210000
DTSTAMP:20260422T001000
CREATED:20240226T201433Z
LAST-MODIFIED:20240504T044834Z
UID:10000998-1833217200-1833224400@bsw-goettingen.de
SUMMARY:Skatgruppe
DESCRIPTION:
URL:https://bsw-goettingen.de/veranstaltung/skatgruppe-goettingen/2028-02-03/
LOCATION:BSW-Freizeittreff im Bahnhof\, Bahnhofsplatz 1\, Göttingen\, 37073\, Deutschland
CATEGORIES:Veranstaltungen
END:VEVENT
BEGIN:VEVENT
DTSTART;TZID=UTC:20280207T090000
DTEND;TZID=UTC:20280207T110000
DTSTAMP:20260422T001000
CREATED:20240224T201334Z
LAST-MODIFIED:20240504T044437Z
UID:10000316-1833526800-1833534000@bsw-goettingen.de
SUMMARY:Sprechstunde
DESCRIPTION:Wir sind für Sie da!\nUnser Seniorenberater Hardi Rezepka freut sich auf Ihren Besuch.
URL:https://bsw-goettingen.de/veranstaltung/sprechstunde-bahnhof-goettingen/2028-02-07/
LOCATION:BSW-Freizeittreff im Bahnhof\, Bahnhofsplatz 1\, Göttingen\, 37073\, Deutschland
CATEGORIES:Sprechstunden
END:VEVENT
BEGIN:VEVENT
DTSTART;TZID=UTC:20280207T150000
DTEND;TZID=UTC:20280207T170000
DTSTAMP:20260422T001000
CREATED:20240226T202935Z
LAST-MODIFIED:20240504T044740Z
UID:10000836-1833548400-1833555600@bsw-goettingen.de
SUMMARY:Schachgruppe
DESCRIPTION:
URL:https://bsw-goettingen.de/veranstaltung/schachgruppe-bsw-goettingen/2028-02-07/
LOCATION:BSW-Freizeittreff im Bahnhof\, Bahnhofsplatz 1\, Göttingen\, 37073\, Deutschland
CATEGORIES:Veranstaltungen
END:VEVENT
BEGIN:VEVENT
DTSTART;TZID=UTC:20280214T090000
DTEND;TZID=UTC:20280214T110000
DTSTAMP:20260422T001000
CREATED:20240224T201334Z
LAST-MODIFIED:20240504T044437Z
UID:10000317-1834131600-1834138800@bsw-goettingen.de
SUMMARY:Sprechstunde
DESCRIPTION:Wir sind für Sie da!\nUnser Seniorenberater Hardi Rezepka freut sich auf Ihren Besuch.
URL:https://bsw-goettingen.de/veranstaltung/sprechstunde-bahnhof-goettingen/2028-02-14/
LOCATION:BSW-Freizeittreff im Bahnhof\, Bahnhofsplatz 1\, Göttingen\, 37073\, Deutschland
CATEGORIES:Sprechstunden
END:VEVENT
BEGIN:VEVENT
DTSTART;TZID=UTC:20280214T150000
DTEND;TZID=UTC:20280214T170000
DTSTAMP:20260422T001000
CREATED:20240226T202935Z
LAST-MODIFIED:20240504T044740Z
UID:10000837-1834153200-1834160400@bsw-goettingen.de
SUMMARY:Schachgruppe
DESCRIPTION:
URL:https://bsw-goettingen.de/veranstaltung/schachgruppe-bsw-goettingen/2028-02-14/
LOCATION:BSW-Freizeittreff im Bahnhof\, Bahnhofsplatz 1\, Göttingen\, 37073\, Deutschland
CATEGORIES:Veranstaltungen
END:VEVENT
BEGIN:VEVENT
DTSTART;TZID=UTC:20280217T140000
DTEND;TZID=UTC:20280217T160000
DTSTAMP:20260422T001000
CREATED:20240226T201737Z
LAST-MODIFIED:20240504T044852Z
UID:10001129-1834408800-1834416000@bsw-goettingen.de
SUMMARY:Knobelgruppe
DESCRIPTION:
URL:https://bsw-goettingen.de/veranstaltung/knobelgruppe-goettingen/2028-02-17/
LOCATION:BSW-Freizeittreff im Bahnhof\, Bahnhofsplatz 1\, Göttingen\, 37073\, Deutschland
CATEGORIES:Veranstaltungen
END:VEVENT
BEGIN:VEVENT
DTSTART;TZID=UTC:20280217T190000
DTEND;TZID=UTC:20280217T210000
DTSTAMP:20260422T001000
CREATED:20240226T201433Z
LAST-MODIFIED:20240504T044834Z
UID:10000999-1834426800-1834434000@bsw-goettingen.de
SUMMARY:Skatgruppe
DESCRIPTION:
URL:https://bsw-goettingen.de/veranstaltung/skatgruppe-goettingen/2028-02-17/
LOCATION:BSW-Freizeittreff im Bahnhof\, Bahnhofsplatz 1\, Göttingen\, 37073\, Deutschland
CATEGORIES:Veranstaltungen
END:VEVENT
BEGIN:VEVENT
DTSTART;TZID=UTC:20280221T090000
DTEND;TZID=UTC:20280221T110000
DTSTAMP:20260422T001000
CREATED:20240224T201334Z
LAST-MODIFIED:20240504T044437Z
UID:10000318-1834736400-1834743600@bsw-goettingen.de
SUMMARY:Sprechstunde
DESCRIPTION:Wir sind für Sie da!\nUnser Seniorenberater Hardi Rezepka freut sich auf Ihren Besuch.
URL:https://bsw-goettingen.de/veranstaltung/sprechstunde-bahnhof-goettingen/2028-02-21/
LOCATION:BSW-Freizeittreff im Bahnhof\, Bahnhofsplatz 1\, Göttingen\, 37073\, Deutschland
CATEGORIES:Sprechstunden
END:VEVENT
BEGIN:VEVENT
DTSTART;TZID=UTC:20280221T150000
DTEND;TZID=UTC:20280221T170000
DTSTAMP:20260422T001000
CREATED:20240226T202935Z
LAST-MODIFIED:20240504T044740Z
UID:10000838-1834758000-1834765200@bsw-goettingen.de
SUMMARY:Schachgruppe
DESCRIPTION:
URL:https://bsw-goettingen.de/veranstaltung/schachgruppe-bsw-goettingen/2028-02-21/
LOCATION:BSW-Freizeittreff im Bahnhof\, Bahnhofsplatz 1\, Göttingen\, 37073\, Deutschland
CATEGORIES:Veranstaltungen
END:VEVENT
BEGIN:VEVENT
DTSTART;TZID=UTC:20280228T090000
DTEND;TZID=UTC:20280228T110000
DTSTAMP:20260422T001000
CREATED:20240224T201334Z
LAST-MODIFIED:20240504T044437Z
UID:10000319-1835341200-1835348400@bsw-goettingen.de
SUMMARY:Sprechstunde
DESCRIPTION:Wir sind für Sie da!\nUnser Seniorenberater Hardi Rezepka freut sich auf Ihren Besuch.
URL:https://bsw-goettingen.de/veranstaltung/sprechstunde-bahnhof-goettingen/2028-02-28/
LOCATION:BSW-Freizeittreff im Bahnhof\, Bahnhofsplatz 1\, Göttingen\, 37073\, Deutschland
CATEGORIES:Sprechstunden
END:VEVENT
BEGIN:VEVENT
DTSTART;TZID=UTC:20280228T150000
DTEND;TZID=UTC:20280228T170000
DTSTAMP:20260422T001000
CREATED:20240226T202935Z
LAST-MODIFIED:20240504T044740Z
UID:10000839-1835362800-1835370000@bsw-goettingen.de
SUMMARY:Schachgruppe
DESCRIPTION:
URL:https://bsw-goettingen.de/veranstaltung/schachgruppe-bsw-goettingen/2028-02-28/
LOCATION:BSW-Freizeittreff im Bahnhof\, Bahnhofsplatz 1\, Göttingen\, 37073\, Deutschland
CATEGORIES:Veranstaltungen
END:VEVENT
END:VCALENDAR