BEGIN:VCALENDAR
VERSION:2.0
PRODID:-//Stiftung BSW - ECPv6.7.1//NONSGML v1.0//EN
CALSCALE:GREGORIAN
METHOD:PUBLISH
X-ORIGINAL-URL:https://bsw-goettingen.de
X-WR-CALDESC:Veranstaltungen für Stiftung BSW
REFRESH-INTERVAL;VALUE=DURATION:PT1H
X-Robots-Tag:noindex
X-PUBLISHED-TTL:PT1H
BEGIN:VTIMEZONE
TZID:UTC
BEGIN:STANDARD
TZOFFSETFROM:+0000
TZOFFSETTO:+0000
TZNAME:UTC
DTSTART:20270101T000000
END:STANDARD
END:VTIMEZONE
BEGIN:VEVENT
DTSTART;TZID=UTC:20271004T090000
DTEND;TZID=UTC:20271004T110000
DTSTAMP:20260421T180151
CREATED:20240224T201334Z
LAST-MODIFIED:20240504T044437Z
UID:10000298-1822640400-1822647600@bsw-goettingen.de
SUMMARY:Sprechstunde
DESCRIPTION:Wir sind für Sie da!\nUnser Seniorenberater Hardi Rezepka freut sich auf Ihren Besuch.
URL:https://bsw-goettingen.de/veranstaltung/sprechstunde-bahnhof-goettingen/2027-10-04/
LOCATION:BSW-Freizeittreff im Bahnhof\, Bahnhofsplatz 1\, Göttingen\, 37073\, Deutschland
CATEGORIES:Sprechstunden
END:VEVENT
BEGIN:VEVENT
DTSTART;TZID=UTC:20271004T150000
DTEND;TZID=UTC:20271004T170000
DTSTAMP:20260421T180151
CREATED:20240226T202935Z
LAST-MODIFIED:20240504T044740Z
UID:10000818-1822662000-1822669200@bsw-goettingen.de
SUMMARY:Schachgruppe
DESCRIPTION:
URL:https://bsw-goettingen.de/veranstaltung/schachgruppe-bsw-goettingen/2027-10-04/
LOCATION:BSW-Freizeittreff im Bahnhof\, Bahnhofsplatz 1\, Göttingen\, 37073\, Deutschland
CATEGORIES:Veranstaltungen
END:VEVENT
BEGIN:VEVENT
DTSTART;TZID=UTC:20271011T090000
DTEND;TZID=UTC:20271011T110000
DTSTAMP:20260421T180151
CREATED:20240224T201334Z
LAST-MODIFIED:20240504T044437Z
UID:10000299-1823245200-1823252400@bsw-goettingen.de
SUMMARY:Sprechstunde
DESCRIPTION:Wir sind für Sie da!\nUnser Seniorenberater Hardi Rezepka freut sich auf Ihren Besuch.
URL:https://bsw-goettingen.de/veranstaltung/sprechstunde-bahnhof-goettingen/2027-10-11/
LOCATION:BSW-Freizeittreff im Bahnhof\, Bahnhofsplatz 1\, Göttingen\, 37073\, Deutschland
CATEGORIES:Sprechstunden
END:VEVENT
BEGIN:VEVENT
DTSTART;TZID=UTC:20271011T150000
DTEND;TZID=UTC:20271011T170000
DTSTAMP:20260421T180151
CREATED:20240226T202935Z
LAST-MODIFIED:20240504T044740Z
UID:10000819-1823266800-1823274000@bsw-goettingen.de
SUMMARY:Schachgruppe
DESCRIPTION:
URL:https://bsw-goettingen.de/veranstaltung/schachgruppe-bsw-goettingen/2027-10-11/
LOCATION:BSW-Freizeittreff im Bahnhof\, Bahnhofsplatz 1\, Göttingen\, 37073\, Deutschland
CATEGORIES:Veranstaltungen
END:VEVENT
BEGIN:VEVENT
DTSTART;TZID=UTC:20271014T140000
DTEND;TZID=UTC:20271014T160000
DTSTAMP:20260421T180151
CREATED:20240226T201737Z
LAST-MODIFIED:20240504T044852Z
UID:10001120-1823522400-1823529600@bsw-goettingen.de
SUMMARY:Knobelgruppe
DESCRIPTION:
URL:https://bsw-goettingen.de/veranstaltung/knobelgruppe-goettingen/2027-10-14/
LOCATION:BSW-Freizeittreff im Bahnhof\, Bahnhofsplatz 1\, Göttingen\, 37073\, Deutschland
CATEGORIES:Veranstaltungen
END:VEVENT
BEGIN:VEVENT
DTSTART;TZID=UTC:20271014T190000
DTEND;TZID=UTC:20271014T210000
DTSTAMP:20260421T180151
CREATED:20240226T201433Z
LAST-MODIFIED:20240504T044834Z
UID:10000990-1823540400-1823547600@bsw-goettingen.de
SUMMARY:Skatgruppe
DESCRIPTION:
URL:https://bsw-goettingen.de/veranstaltung/skatgruppe-goettingen/2027-10-14/
LOCATION:BSW-Freizeittreff im Bahnhof\, Bahnhofsplatz 1\, Göttingen\, 37073\, Deutschland
CATEGORIES:Veranstaltungen
END:VEVENT
BEGIN:VEVENT
DTSTART;TZID=UTC:20271018T090000
DTEND;TZID=UTC:20271018T110000
DTSTAMP:20260421T180151
CREATED:20240224T201334Z
LAST-MODIFIED:20240504T044437Z
UID:10000300-1823850000-1823857200@bsw-goettingen.de
SUMMARY:Sprechstunde
DESCRIPTION:Wir sind für Sie da!\nUnser Seniorenberater Hardi Rezepka freut sich auf Ihren Besuch.
URL:https://bsw-goettingen.de/veranstaltung/sprechstunde-bahnhof-goettingen/2027-10-18/
LOCATION:BSW-Freizeittreff im Bahnhof\, Bahnhofsplatz 1\, Göttingen\, 37073\, Deutschland
CATEGORIES:Sprechstunden
END:VEVENT
BEGIN:VEVENT
DTSTART;TZID=UTC:20271018T150000
DTEND;TZID=UTC:20271018T170000
DTSTAMP:20260421T180151
CREATED:20240226T202935Z
LAST-MODIFIED:20240504T044740Z
UID:10000820-1823871600-1823878800@bsw-goettingen.de
SUMMARY:Schachgruppe
DESCRIPTION:
URL:https://bsw-goettingen.de/veranstaltung/schachgruppe-bsw-goettingen/2027-10-18/
LOCATION:BSW-Freizeittreff im Bahnhof\, Bahnhofsplatz 1\, Göttingen\, 37073\, Deutschland
CATEGORIES:Veranstaltungen
END:VEVENT
BEGIN:VEVENT
DTSTART;TZID=UTC:20271025T090000
DTEND;TZID=UTC:20271025T110000
DTSTAMP:20260421T180151
CREATED:20240224T201334Z
LAST-MODIFIED:20240504T044437Z
UID:10000301-1824454800-1824462000@bsw-goettingen.de
SUMMARY:Sprechstunde
DESCRIPTION:Wir sind für Sie da!\nUnser Seniorenberater Hardi Rezepka freut sich auf Ihren Besuch.
URL:https://bsw-goettingen.de/veranstaltung/sprechstunde-bahnhof-goettingen/2027-10-25/
LOCATION:BSW-Freizeittreff im Bahnhof\, Bahnhofsplatz 1\, Göttingen\, 37073\, Deutschland
CATEGORIES:Sprechstunden
END:VEVENT
BEGIN:VEVENT
DTSTART;TZID=UTC:20271025T150000
DTEND;TZID=UTC:20271025T170000
DTSTAMP:20260421T180151
CREATED:20240226T202935Z
LAST-MODIFIED:20240504T044740Z
UID:10000821-1824476400-1824483600@bsw-goettingen.de
SUMMARY:Schachgruppe
DESCRIPTION:
URL:https://bsw-goettingen.de/veranstaltung/schachgruppe-bsw-goettingen/2027-10-25/
LOCATION:BSW-Freizeittreff im Bahnhof\, Bahnhofsplatz 1\, Göttingen\, 37073\, Deutschland
CATEGORIES:Veranstaltungen
END:VEVENT
BEGIN:VEVENT
DTSTART;TZID=UTC:20271028T140000
DTEND;TZID=UTC:20271028T160000
DTSTAMP:20260421T180151
CREATED:20240226T201737Z
LAST-MODIFIED:20240504T044852Z
UID:10001121-1824732000-1824739200@bsw-goettingen.de
SUMMARY:Knobelgruppe
DESCRIPTION:
URL:https://bsw-goettingen.de/veranstaltung/knobelgruppe-goettingen/2027-10-28/
LOCATION:BSW-Freizeittreff im Bahnhof\, Bahnhofsplatz 1\, Göttingen\, 37073\, Deutschland
CATEGORIES:Veranstaltungen
END:VEVENT
BEGIN:VEVENT
DTSTART;TZID=UTC:20271028T190000
DTEND;TZID=UTC:20271028T210000
DTSTAMP:20260421T180151
CREATED:20240226T201433Z
LAST-MODIFIED:20240504T044834Z
UID:10000991-1824750000-1824757200@bsw-goettingen.de
SUMMARY:Skatgruppe
DESCRIPTION:
URL:https://bsw-goettingen.de/veranstaltung/skatgruppe-goettingen/2027-10-28/
LOCATION:BSW-Freizeittreff im Bahnhof\, Bahnhofsplatz 1\, Göttingen\, 37073\, Deutschland
CATEGORIES:Veranstaltungen
END:VEVENT
END:VCALENDAR