BEGIN:VCALENDAR
VERSION:2.0
PRODID:-//Stiftung BSW - ECPv6.7.1//NONSGML v1.0//EN
CALSCALE:GREGORIAN
METHOD:PUBLISH
X-ORIGINAL-URL:https://bsw-goettingen.de
X-WR-CALDESC:Veranstaltungen für Stiftung BSW
REFRESH-INTERVAL;VALUE=DURATION:PT1H
X-Robots-Tag:noindex
X-PUBLISHED-TTL:PT1H
BEGIN:VTIMEZONE
TZID:UTC
BEGIN:STANDARD
TZOFFSETFROM:+0000
TZOFFSETTO:+0000
TZNAME:UTC
DTSTART:20270101T000000
END:STANDARD
END:VTIMEZONE
BEGIN:VEVENT
DTSTART;TZID=UTC:20270705T090000
DTEND;TZID=UTC:20270705T110000
DTSTAMP:20260421T131324
CREATED:20240224T201334Z
LAST-MODIFIED:20240504T044437Z
UID:10000285-1814778000-1814785200@bsw-goettingen.de
SUMMARY:Sprechstunde
DESCRIPTION:Wir sind für Sie da!\nUnser Seniorenberater Hardi Rezepka freut sich auf Ihren Besuch.
URL:https://bsw-goettingen.de/veranstaltung/sprechstunde-bahnhof-goettingen/2027-07-05/
LOCATION:BSW-Freizeittreff im Bahnhof\, Bahnhofsplatz 1\, Göttingen\, 37073\, Deutschland
CATEGORIES:Sprechstunden
END:VEVENT
BEGIN:VEVENT
DTSTART;TZID=UTC:20270705T150000
DTEND;TZID=UTC:20270705T170000
DTSTAMP:20260421T131324
CREATED:20240226T202935Z
LAST-MODIFIED:20240504T044740Z
UID:10000805-1814799600-1814806800@bsw-goettingen.de
SUMMARY:Schachgruppe
DESCRIPTION:
URL:https://bsw-goettingen.de/veranstaltung/schachgruppe-bsw-goettingen/2027-07-05/
LOCATION:BSW-Freizeittreff im Bahnhof\, Bahnhofsplatz 1\, Göttingen\, 37073\, Deutschland
CATEGORIES:Veranstaltungen
END:VEVENT
BEGIN:VEVENT
DTSTART;TZID=UTC:20270708T140000
DTEND;TZID=UTC:20270708T160000
DTSTAMP:20260421T131324
CREATED:20240226T201737Z
LAST-MODIFIED:20240504T044852Z
UID:10001113-1815055200-1815062400@bsw-goettingen.de
SUMMARY:Knobelgruppe
DESCRIPTION:
URL:https://bsw-goettingen.de/veranstaltung/knobelgruppe-goettingen/2027-07-08/
LOCATION:BSW-Freizeittreff im Bahnhof\, Bahnhofsplatz 1\, Göttingen\, 37073\, Deutschland
CATEGORIES:Veranstaltungen
END:VEVENT
BEGIN:VEVENT
DTSTART;TZID=UTC:20270708T190000
DTEND;TZID=UTC:20270708T210000
DTSTAMP:20260421T131324
CREATED:20240226T201433Z
LAST-MODIFIED:20240504T044834Z
UID:10000983-1815073200-1815080400@bsw-goettingen.de
SUMMARY:Skatgruppe
DESCRIPTION:
URL:https://bsw-goettingen.de/veranstaltung/skatgruppe-goettingen/2027-07-08/
LOCATION:BSW-Freizeittreff im Bahnhof\, Bahnhofsplatz 1\, Göttingen\, 37073\, Deutschland
CATEGORIES:Veranstaltungen
END:VEVENT
BEGIN:VEVENT
DTSTART;TZID=UTC:20270712T090000
DTEND;TZID=UTC:20270712T110000
DTSTAMP:20260421T131324
CREATED:20240224T201334Z
LAST-MODIFIED:20240504T044437Z
UID:10000286-1815382800-1815390000@bsw-goettingen.de
SUMMARY:Sprechstunde
DESCRIPTION:Wir sind für Sie da!\nUnser Seniorenberater Hardi Rezepka freut sich auf Ihren Besuch.
URL:https://bsw-goettingen.de/veranstaltung/sprechstunde-bahnhof-goettingen/2027-07-12/
LOCATION:BSW-Freizeittreff im Bahnhof\, Bahnhofsplatz 1\, Göttingen\, 37073\, Deutschland
CATEGORIES:Sprechstunden
END:VEVENT
BEGIN:VEVENT
DTSTART;TZID=UTC:20270712T150000
DTEND;TZID=UTC:20270712T170000
DTSTAMP:20260421T131324
CREATED:20240226T202935Z
LAST-MODIFIED:20240504T044740Z
UID:10000806-1815404400-1815411600@bsw-goettingen.de
SUMMARY:Schachgruppe
DESCRIPTION:
URL:https://bsw-goettingen.de/veranstaltung/schachgruppe-bsw-goettingen/2027-07-12/
LOCATION:BSW-Freizeittreff im Bahnhof\, Bahnhofsplatz 1\, Göttingen\, 37073\, Deutschland
CATEGORIES:Veranstaltungen
END:VEVENT
BEGIN:VEVENT
DTSTART;TZID=UTC:20270719T090000
DTEND;TZID=UTC:20270719T110000
DTSTAMP:20260421T131324
CREATED:20240224T201334Z
LAST-MODIFIED:20240504T044437Z
UID:10000287-1815987600-1815994800@bsw-goettingen.de
SUMMARY:Sprechstunde
DESCRIPTION:Wir sind für Sie da!\nUnser Seniorenberater Hardi Rezepka freut sich auf Ihren Besuch.
URL:https://bsw-goettingen.de/veranstaltung/sprechstunde-bahnhof-goettingen/2027-07-19/
LOCATION:BSW-Freizeittreff im Bahnhof\, Bahnhofsplatz 1\, Göttingen\, 37073\, Deutschland
CATEGORIES:Sprechstunden
END:VEVENT
BEGIN:VEVENT
DTSTART;TZID=UTC:20270719T150000
DTEND;TZID=UTC:20270719T170000
DTSTAMP:20260421T131324
CREATED:20240226T202935Z
LAST-MODIFIED:20240504T044740Z
UID:10000807-1816009200-1816016400@bsw-goettingen.de
SUMMARY:Schachgruppe
DESCRIPTION:
URL:https://bsw-goettingen.de/veranstaltung/schachgruppe-bsw-goettingen/2027-07-19/
LOCATION:BSW-Freizeittreff im Bahnhof\, Bahnhofsplatz 1\, Göttingen\, 37073\, Deutschland
CATEGORIES:Veranstaltungen
END:VEVENT
BEGIN:VEVENT
DTSTART;TZID=UTC:20270722T140000
DTEND;TZID=UTC:20270722T160000
DTSTAMP:20260421T131324
CREATED:20240226T201737Z
LAST-MODIFIED:20240504T044852Z
UID:10001114-1816264800-1816272000@bsw-goettingen.de
SUMMARY:Knobelgruppe
DESCRIPTION:
URL:https://bsw-goettingen.de/veranstaltung/knobelgruppe-goettingen/2027-07-22/
LOCATION:BSW-Freizeittreff im Bahnhof\, Bahnhofsplatz 1\, Göttingen\, 37073\, Deutschland
CATEGORIES:Veranstaltungen
END:VEVENT
BEGIN:VEVENT
DTSTART;TZID=UTC:20270722T190000
DTEND;TZID=UTC:20270722T210000
DTSTAMP:20260421T131324
CREATED:20240226T201433Z
LAST-MODIFIED:20240504T044834Z
UID:10000984-1816282800-1816290000@bsw-goettingen.de
SUMMARY:Skatgruppe
DESCRIPTION:
URL:https://bsw-goettingen.de/veranstaltung/skatgruppe-goettingen/2027-07-22/
LOCATION:BSW-Freizeittreff im Bahnhof\, Bahnhofsplatz 1\, Göttingen\, 37073\, Deutschland
CATEGORIES:Veranstaltungen
END:VEVENT
BEGIN:VEVENT
DTSTART;TZID=UTC:20270726T090000
DTEND;TZID=UTC:20270726T110000
DTSTAMP:20260421T131324
CREATED:20240224T201334Z
LAST-MODIFIED:20240504T044437Z
UID:10000288-1816592400-1816599600@bsw-goettingen.de
SUMMARY:Sprechstunde
DESCRIPTION:Wir sind für Sie da!\nUnser Seniorenberater Hardi Rezepka freut sich auf Ihren Besuch.
URL:https://bsw-goettingen.de/veranstaltung/sprechstunde-bahnhof-goettingen/2027-07-26/
LOCATION:BSW-Freizeittreff im Bahnhof\, Bahnhofsplatz 1\, Göttingen\, 37073\, Deutschland
CATEGORIES:Sprechstunden
END:VEVENT
BEGIN:VEVENT
DTSTART;TZID=UTC:20270726T150000
DTEND;TZID=UTC:20270726T170000
DTSTAMP:20260421T131324
CREATED:20240226T202935Z
LAST-MODIFIED:20240504T044740Z
UID:10000808-1816614000-1816621200@bsw-goettingen.de
SUMMARY:Schachgruppe
DESCRIPTION:
URL:https://bsw-goettingen.de/veranstaltung/schachgruppe-bsw-goettingen/2027-07-26/
LOCATION:BSW-Freizeittreff im Bahnhof\, Bahnhofsplatz 1\, Göttingen\, 37073\, Deutschland
CATEGORIES:Veranstaltungen
END:VEVENT
END:VCALENDAR