BEGIN:VCALENDAR
VERSION:2.0
PRODID:-//Stiftung BSW - ECPv6.7.1//NONSGML v1.0//EN
CALSCALE:GREGORIAN
METHOD:PUBLISH
X-WR-CALNAME:Stiftung BSW
X-ORIGINAL-URL:https://bsw-goettingen.de
X-WR-CALDESC:Veranstaltungen für Stiftung BSW
REFRESH-INTERVAL;VALUE=DURATION:PT1H
X-Robots-Tag:noindex
X-PUBLISHED-TTL:PT1H
BEGIN:VTIMEZONE
TZID:UTC
BEGIN:STANDARD
TZOFFSETFROM:+0000
TZOFFSETTO:+0000
TZNAME:UTC
DTSTART:20250101T000000
END:STANDARD
END:VTIMEZONE
BEGIN:VEVENT
DTSTART;TZID=UTC:20250403T140000
DTEND;TZID=UTC:20250403T160000
DTSTAMP:20260419T121851
CREATED:20240226T201737Z
LAST-MODIFIED:20240504T044852Z
UID:10001054-1743688800-1743696000@bsw-goettingen.de
SUMMARY:Knobelgruppe
DESCRIPTION:
URL:https://bsw-goettingen.de/veranstaltung/knobelgruppe-goettingen/2025-04-03/
LOCATION:BSW-Freizeittreff im Bahnhof\, Bahnhofsplatz 1\, Göttingen\, 37073\, Deutschland
CATEGORIES:Veranstaltungen
END:VEVENT
BEGIN:VEVENT
DTSTART;TZID=UTC:20250403T190000
DTEND;TZID=UTC:20250403T210000
DTSTAMP:20260419T121851
CREATED:20240226T201433Z
LAST-MODIFIED:20240504T044834Z
UID:10000924-1743706800-1743714000@bsw-goettingen.de
SUMMARY:Skatgruppe
DESCRIPTION:
URL:https://bsw-goettingen.de/veranstaltung/skatgruppe-goettingen/2025-04-03/
LOCATION:BSW-Freizeittreff im Bahnhof\, Bahnhofsplatz 1\, Göttingen\, 37073\, Deutschland
CATEGORIES:Veranstaltungen
END:VEVENT
BEGIN:VEVENT
DTSTART;TZID=UTC:20250407T090000
DTEND;TZID=UTC:20250407T110000
DTSTAMP:20260419T121851
CREATED:20240224T201334Z
LAST-MODIFIED:20240504T044437Z
UID:10000168-1744016400-1744023600@bsw-goettingen.de
SUMMARY:Sprechstunde
DESCRIPTION:Wir sind für Sie da!\nUnser Seniorenberater Hardi Rezepka freut sich auf Ihren Besuch.
URL:https://bsw-goettingen.de/veranstaltung/sprechstunde-bahnhof-goettingen/2025-04-07/
LOCATION:BSW-Freizeittreff im Bahnhof\, Bahnhofsplatz 1\, Göttingen\, 37073\, Deutschland
CATEGORIES:Sprechstunden
END:VEVENT
BEGIN:VEVENT
DTSTART;TZID=UTC:20250407T150000
DTEND;TZID=UTC:20250407T170000
DTSTAMP:20260419T121851
CREATED:20240226T202935Z
LAST-MODIFIED:20240504T044740Z
UID:10000688-1744038000-1744045200@bsw-goettingen.de
SUMMARY:Schachgruppe
DESCRIPTION:
URL:https://bsw-goettingen.de/veranstaltung/schachgruppe-bsw-goettingen/2025-04-07/
LOCATION:BSW-Freizeittreff im Bahnhof\, Bahnhofsplatz 1\, Göttingen\, 37073\, Deutschland
CATEGORIES:Veranstaltungen
END:VEVENT
BEGIN:VEVENT
DTSTART;TZID=UTC:20250410T140000
DTEND;TZID=UTC:20250410T160000
DTSTAMP:20260419T121851
CREATED:20231029T122504Z
LAST-MODIFIED:20251031T201816Z
UID:10001164-1744293600-1744300800@bsw-goettingen.de
SUMMARY:Spielenachmittag
DESCRIPTION:Wir treffen uns zum Brettspiele spielen im Freizeitheim.
URL:https://bsw-goettingen.de/veranstaltung/spielenachmittag/2025-04-10/
LOCATION:BSW-Freizeittreff im Bahnhof\, Bahnhofsplatz 1\, Göttingen\, 37073\, Deutschland
CATEGORIES:Veranstaltungen
END:VEVENT
BEGIN:VEVENT
DTSTART;TZID=UTC:20250414T090000
DTEND;TZID=UTC:20250414T110000
DTSTAMP:20260419T121851
CREATED:20240224T201334Z
LAST-MODIFIED:20240504T044437Z
UID:10000169-1744621200-1744628400@bsw-goettingen.de
SUMMARY:Sprechstunde
DESCRIPTION:Wir sind für Sie da!\nUnser Seniorenberater Hardi Rezepka freut sich auf Ihren Besuch.
URL:https://bsw-goettingen.de/veranstaltung/sprechstunde-bahnhof-goettingen/2025-04-14/
LOCATION:BSW-Freizeittreff im Bahnhof\, Bahnhofsplatz 1\, Göttingen\, 37073\, Deutschland
CATEGORIES:Sprechstunden
END:VEVENT
BEGIN:VEVENT
DTSTART;TZID=UTC:20250414T150000
DTEND;TZID=UTC:20250414T170000
DTSTAMP:20260419T121851
CREATED:20240226T202935Z
LAST-MODIFIED:20240504T044740Z
UID:10000689-1744642800-1744650000@bsw-goettingen.de
SUMMARY:Schachgruppe
DESCRIPTION:
URL:https://bsw-goettingen.de/veranstaltung/schachgruppe-bsw-goettingen/2025-04-14/
LOCATION:BSW-Freizeittreff im Bahnhof\, Bahnhofsplatz 1\, Göttingen\, 37073\, Deutschland
CATEGORIES:Veranstaltungen
END:VEVENT
BEGIN:VEVENT
DTSTART;TZID=UTC:20250417T140000
DTEND;TZID=UTC:20250417T160000
DTSTAMP:20260419T121851
CREATED:20240226T201737Z
LAST-MODIFIED:20240504T044852Z
UID:10001055-1744898400-1744905600@bsw-goettingen.de
SUMMARY:Knobelgruppe
DESCRIPTION:
URL:https://bsw-goettingen.de/veranstaltung/knobelgruppe-goettingen/2025-04-17/
LOCATION:BSW-Freizeittreff im Bahnhof\, Bahnhofsplatz 1\, Göttingen\, 37073\, Deutschland
CATEGORIES:Veranstaltungen
END:VEVENT
BEGIN:VEVENT
DTSTART;TZID=UTC:20250417T190000
DTEND;TZID=UTC:20250417T210000
DTSTAMP:20260419T121851
CREATED:20240226T201433Z
LAST-MODIFIED:20240504T044834Z
UID:10000925-1744916400-1744923600@bsw-goettingen.de
SUMMARY:Skatgruppe
DESCRIPTION:
URL:https://bsw-goettingen.de/veranstaltung/skatgruppe-goettingen/2025-04-17/
LOCATION:BSW-Freizeittreff im Bahnhof\, Bahnhofsplatz 1\, Göttingen\, 37073\, Deutschland
CATEGORIES:Veranstaltungen
END:VEVENT
BEGIN:VEVENT
DTSTART;TZID=UTC:20250421T090000
DTEND;TZID=UTC:20250421T110000
DTSTAMP:20260419T121851
CREATED:20240224T201334Z
LAST-MODIFIED:20240504T044437Z
UID:10000170-1745226000-1745233200@bsw-goettingen.de
SUMMARY:Sprechstunde
DESCRIPTION:Wir sind für Sie da!\nUnser Seniorenberater Hardi Rezepka freut sich auf Ihren Besuch.
URL:https://bsw-goettingen.de/veranstaltung/sprechstunde-bahnhof-goettingen/2025-04-21/
LOCATION:BSW-Freizeittreff im Bahnhof\, Bahnhofsplatz 1\, Göttingen\, 37073\, Deutschland
CATEGORIES:Sprechstunden
END:VEVENT
BEGIN:VEVENT
DTSTART;TZID=UTC:20250421T150000
DTEND;TZID=UTC:20250421T170000
DTSTAMP:20260419T121851
CREATED:20240226T202935Z
LAST-MODIFIED:20240504T044740Z
UID:10000690-1745247600-1745254800@bsw-goettingen.de
SUMMARY:Schachgruppe
DESCRIPTION:
URL:https://bsw-goettingen.de/veranstaltung/schachgruppe-bsw-goettingen/2025-04-21/
LOCATION:BSW-Freizeittreff im Bahnhof\, Bahnhofsplatz 1\, Göttingen\, 37073\, Deutschland
CATEGORIES:Veranstaltungen
END:VEVENT
BEGIN:VEVENT
DTSTART;VALUE=DATE:20250423
DTEND;VALUE=DATE:20250424
DTSTAMP:20260419T121851
CREATED:20241026T191306Z
LAST-MODIFIED:20241026T191306Z
UID:10001166-1745366400-1745452799@bsw-goettingen.de
SUMMARY:Spargelessen Winkelmann
DESCRIPTION:Anreise in einem unserer modernen Reisebusse zum dem beliebten Spargelhof Winkelmann. Er liegt idyllisch am Rande des schönen Weserberglandes. Genießen Sie das üppige Buffet. In Minden heißt es Leinen los. Bei der Kanal-Weser-Schifffahrt wird Ihnen Kaffee und Kuchen gereicht. Der Ausblick während der Schifffahrt lädt zum Verweilen ein\, bevor Sie die Heimreise antreten. \n  \nLeistungen: \nFahrt im modernen Reisebus\, Spargelessen als Buffet\, Kanal-Weser-Schifffahrt\, Kaffeetrinken (2 Tassen Kaffee/Tee\, ein Stück Sahnetorte) Busrundfahrt wie beschrieben. \n  \nReisepreis pro Person:                                   89\,00 €  \nÄnderungen im Programmablauf vorbehalten! \nDurchgeführt durch Firma Scheithauer\, Anmeldungen bei Scheithauer Reisen GmbH\, Tel.: 05527-983043 oder 05527-983042. Nur für Förderer des Bahnsozialwerks.
URL:https://bsw-goettingen.de/veranstaltung/spargelessen-winkelmann/
CATEGORIES:Tagesfahrten
END:VEVENT
BEGIN:VEVENT
DTSTART;TZID=UTC:20250428T090000
DTEND;TZID=UTC:20250428T110000
DTSTAMP:20260419T121851
CREATED:20240224T201334Z
LAST-MODIFIED:20240504T044437Z
UID:10000171-1745830800-1745838000@bsw-goettingen.de
SUMMARY:Sprechstunde
DESCRIPTION:Wir sind für Sie da!\nUnser Seniorenberater Hardi Rezepka freut sich auf Ihren Besuch.
URL:https://bsw-goettingen.de/veranstaltung/sprechstunde-bahnhof-goettingen/2025-04-28/
LOCATION:BSW-Freizeittreff im Bahnhof\, Bahnhofsplatz 1\, Göttingen\, 37073\, Deutschland
CATEGORIES:Sprechstunden
END:VEVENT
BEGIN:VEVENT
DTSTART;TZID=UTC:20250428T150000
DTEND;TZID=UTC:20250428T170000
DTSTAMP:20260419T121851
CREATED:20240226T202935Z
LAST-MODIFIED:20240504T044740Z
UID:10000691-1745852400-1745859600@bsw-goettingen.de
SUMMARY:Schachgruppe
DESCRIPTION:
URL:https://bsw-goettingen.de/veranstaltung/schachgruppe-bsw-goettingen/2025-04-28/
LOCATION:BSW-Freizeittreff im Bahnhof\, Bahnhofsplatz 1\, Göttingen\, 37073\, Deutschland
CATEGORIES:Veranstaltungen
END:VEVENT
END:VCALENDAR