BEGIN:VCALENDAR
VERSION:2.0
PRODID:-//Stiftung BSW - ECPv6.7.1//NONSGML v1.0//EN
CALSCALE:GREGORIAN
METHOD:PUBLISH
X-ORIGINAL-URL:https://bsw-goettingen.de
X-WR-CALDESC:Veranstaltungen für Stiftung BSW
REFRESH-INTERVAL;VALUE=DURATION:PT1H
X-Robots-Tag:noindex
X-PUBLISHED-TTL:PT1H
BEGIN:VTIMEZONE
TZID:UTC
BEGIN:STANDARD
TZOFFSETFROM:+0000
TZOFFSETTO:+0000
TZNAME:UTC
DTSTART:20250101T000000
END:STANDARD
END:VTIMEZONE
BEGIN:VEVENT
DTSTART;VALUE=DATE:20250312
DTEND;VALUE=DATE:20250313
DTSTAMP:20260419T174321
CREATED:20241026T191117Z
LAST-MODIFIED:20241026T191148Z
UID:10001165-1741737600-1741823999@bsw-goettingen.de
SUMMARY:Stint\, Fisch und mehr
DESCRIPTION:Das Küchenteam von Familie Meyer der Waldgaststätte Eckernworth erwartet Sie zu einem echten Gourmet-Essen pünktlich zur Stint-Saison. Lassen Sie sich bei weiteren gebratenen und gedünsteten Fischfilets\, verschiedene Matjesspezialitäten\, Dillsauce\, Senfsauce\, Bratkartoffeln\, Speckkartoffelsalat\, Heidekartoffeln verwöhnen. Nach einem Vortrag über Ginseng\, lassen Sie den Tag bei einem Kaffeegedeck ausklingen. \n  \nLeistungen: \nFahrt im modernen Reisebus\, Fischbuffet\, Besuch FloraFarm Ginseng\, Kaffeetrinken (Kaffee/Tee satt\, ein Stück Torte)\, Busrundfahrt wie beschrieben. \n  \nReisepreis pro Person:                       65\,00 €  \nÄnderungen im Programmablauf vorbehalten! \nDurchgeführt durch Firma Scheithauer\, Anmeldungen bei Scheithauer Reisen GmbH\, Tel.: 05527-983043 oder 05527-983042. Nur für Förderer des Bahnsozialwerks.
URL:https://bsw-goettingen.de/veranstaltung/stint-fisch-und-mehr-2/
CATEGORIES:Tagesfahrten
END:VEVENT
END:VCALENDAR