BEGIN:VCALENDAR
VERSION:2.0
PRODID:-//Stiftung BSW - ECPv6.7.1//NONSGML v1.0//EN
CALSCALE:GREGORIAN
METHOD:PUBLISH
X-WR-CALNAME:Stiftung BSW
X-ORIGINAL-URL:https://bsw-goettingen.de
X-WR-CALDESC:Veranstaltungen für Stiftung BSW
REFRESH-INTERVAL;VALUE=DURATION:PT1H
X-Robots-Tag:noindex
X-PUBLISHED-TTL:PT1H
BEGIN:VTIMEZONE
TZID:UTC
BEGIN:STANDARD
TZOFFSETFROM:+0000
TZOFFSETTO:+0000
TZNAME:UTC
DTSTART:20240101T000000
END:STANDARD
END:VTIMEZONE
BEGIN:VEVENT
DTSTART;VALUE=DATE:20241206
DTEND;VALUE=DATE:20241207
DTSTAMP:20260421T122340
CREATED:20240224T195727Z
LAST-MODIFIED:20240224T200851Z
UID:10000077-1733443200-1733529599@bsw-goettingen.de
SUMMARY:Nikolausfahrt nach Braunschweig
DESCRIPTION:Im stimmungsvoll beleuchteten Ensemble der historischen Gebäude rund um den Dom St. Blasii und\ndie Burg Dankwarderode locken zahlreiche liebevoll geschmückte Stände zum Weihnachtsmarkt-Besuch. Der Weihnachtsmarkt wird auch in diesem Jahr mit den aufwändig geschmückten Ständen einen adventlichen Zauber verbreitet. Kulinarische Spezialitäten aus Braunschweig und der Region sowie weihnachtliche Leckereien sorgen für Gaumenfreude. Bei einem Kaffeegedeck können Sie sich wieder aufwärmen\, bevor Sie die Heimreise antreten. \nLeistungen: Fahrt im modernen Reisebus\, Kaffeegedeck\, Busrundfahrt wie beschrieben. \nReisepreis pro Person: 48\,00 €\nÄnderungen im Programmablauf vorbehalten! \nDurchgeführt durch Firma Scheithauer\, Anmeldungen bei Scheithauer Reisen GmbH\, Tel.: 05527-983043 oder 05527-983042. Nur für Förderer des Bahnsozialwerks.
URL:https://bsw-goettingen.de/veranstaltung/nikolausfahrt-nach-braunschweig/
CATEGORIES:Tagesfahrten
END:VEVENT
END:VCALENDAR